BEGIN:VCALENDAR
VERSION:2.0
PRODID:-//L8NX - ECPv6.8.3//NONSGML v1.0//EN
CALSCALE:GREGORIAN
METHOD:PUBLISH
X-ORIGINAL-URL:https://l8nx.com
X-WR-CALDESC:Events for L8NX
REFRESH-INTERVAL;VALUE=DURATION:PT1H
X-Robots-Tag:noindex
X-PUBLISHED-TTL:PT1H
BEGIN:VTIMEZONE
TZID:UTC
BEGIN:STANDARD
TZOFFSETFROM:+0000
TZOFFSETTO:+0000
TZNAME:UTC
DTSTART:20250101T000000
END:STANDARD
END:VTIMEZONE
BEGIN:VEVENT
DTSTART;VALUE=DATE:20251101
DTEND;VALUE=DATE:20251201
DTSTAMP:20260422T104209
CREATED:20250811T225349Z
LAST-MODIFIED:20250811T225349Z
UID:18240-1761955200-1764547199@l8nx.com
SUMMARY:November- Kindness Challenge!
DESCRIPTION:
URL:https://l8nx.com/event/november-kindness-challenge/
ATTACH;FMTTYPE=image/jpeg:https://l8nx.com/wp-content/uploads/2025/08/White-Modern-Minimalist-Monthly-Planner-November-2025-Calendar-e1754952725136.jpg
END:VEVENT
BEGIN:VEVENT
DTSTART;VALUE=DATE:20251101
DTEND;VALUE=DATE:20251201
DTSTAMP:20260422T104209
CREATED:20251002T193135Z
LAST-MODIFIED:20251002T215437Z
UID:18623-1761955200-1764547199@l8nx.com
SUMMARY:November is Food Drive Month
DESCRIPTION:L8NX November Food Drive 🍽️\nThis month\, we’re collecting healthy\, shelf-stable food items to support local families in need. \n🛒 Top items: \n\n\nCanned proteins \n\n\nWhole grains \n\n\nLow-sodium veggies & soups \n\n\nNut butters \n\n\nShelf-stable milk \n\n\n📲 Follow us on social for updates and ways to help. \nLet’s make a difference — one meal at a time.
URL:https://l8nx.com/event/l8nx-november-food-drive/
ATTACH;FMTTYPE=image/png:https://l8nx.com/wp-content/uploads/2025/10/Food-Drive-Flyer-e1759433618417.png
END:VEVENT
END:VCALENDAR