BEGIN:VCALENDAR
VERSION:2.0
PRODID:-//L8NX - ECPv6.8.3//NONSGML v1.0//EN
CALSCALE:GREGORIAN
METHOD:PUBLISH
X-WR-CALNAME:L8NX
X-ORIGINAL-URL:https://l8nx.com
X-WR-CALDESC:Events for L8NX
REFRESH-INTERVAL;VALUE=DURATION:PT1H
X-Robots-Tag:noindex
X-PUBLISHED-TTL:PT1H
BEGIN:VTIMEZONE
TZID:UTC
BEGIN:STANDARD
TZOFFSETFROM:+0000
TZOFFSETTO:+0000
TZNAME:UTC
DTSTART:20250101T000000
END:STANDARD
END:VTIMEZONE
BEGIN:VEVENT
DTSTART;VALUE=DATE:20250114
DTEND;VALUE=DATE:20250401
DTSTAMP:20260422T233924
CREATED:20250114T175433Z
LAST-MODIFIED:20250114T175858Z
UID:17432-1736812800-1743465599@l8nx.com
SUMMARY:We're Looking for a Spring Intern!
DESCRIPTION:L8NX Marketing Intern (Unpaid\, Part-Time)\nPosition Overview: \nL8NX is seeking an enthusiastic and creative Marketing Intern to join our team! This part-time\, unpaid internship is designed for journalism\, communications\, business\, or marketing majors looking to gain hands-on experience in social media marketing\, client interaction\, and light sales in a supportive and flexible environment. \nYou will have the opportunity to contribute to our marketing strategies\, build relationships with prospective clients\, and refine your skills in communication\, content creation\, and brand representation—all without pressure! \n  \nLocation: \nRemote with occasional in-person events. \n  \nHours: \n10–15 hours per week\, flexible schedule to accommodate your studies and commitments. \n  \nKey Responsibilities:\nSocial Media Marketing\n\nAssist in developing\, scheduling\, and posting engaging content across all L8NX social media platforms.\nCreate visually appealing graphics\, write compelling captions\, and research trends to boost engagement.\nMonitor and respond to comments and messages to foster community and connection.\n\nClient Interaction & Engagement\n\nConnect with prospective clients through online interactions\, social media engagement\, and email communication.\nAssist in planning and promoting events that encourage collaboration and participation within the L8NX community.\n\nLight Sales Support\n\nShare L8NX services and offerings with prospective clients in a friendly\, informative manner.\nProvide feedback and insights from client interactions to refine our marketing strategies.\n\n  \nWhat You’ll Gain: \n\nHands-on experience in marketing and client engagement.\nOpportunity to build your portfolio with real-world projects.\nMentorship and guidance from experienced professionals.\nFlexible work structure to support your personal and academic growth.\n\n  \nQualifications: \n\nCurrent student or recent graduate in journalism\, marketing\, communications\, or a related field.\nPassion for creativity\, storytelling\, and connecting with others.\nFamiliarity with social media platforms like Instagram\, Facebook\, and LinkedIn.\nStrong written and verbal communication skills.\nPositive attitude and a willingness to learn.\n\n  \nHow to Apply:\nSubmit your résumé\, a brief cover letter\, and links to any relevant work (e.g.\, social media accounts\, blogs\, or marketing projects) to info@l8nx.com with the subject line: L8NX Marketing Intern Application.\nWe look forward to helping you grow and thrive in your marketing journey!
URL:https://l8nx.com/event/were-looking-for-a-spring-intern/
ATTACH;FMTTYPE=image/png:https://l8nx.com/wp-content/uploads/2025/01/Intern-e1736876987664.png
END:VEVENT
BEGIN:VEVENT
DTSTART;VALUE=DATE:20250301
DTEND;VALUE=DATE:20250401
DTSTAMP:20260422T233924
CREATED:20250221T000318Z
LAST-MODIFIED:20250221T000318Z
UID:17612-1740787200-1743465599@l8nx.com
SUMMARY:March Music Madness Month
DESCRIPTION:L8NX March Music Madness Month 🎶🔥 \nMarch is all about rhythm\, energy\, and connection!
URL:https://l8nx.com/event/march-music-madness-month/
ATTACH;FMTTYPE=image/png:https://l8nx.com/wp-content/uploads/2025/02/March-Music-e1740096190405.png
END:VEVENT
BEGIN:VEVENT
DTSTART;TZID=UTC:20250304T203000
DTEND;TZID=UTC:20250304T213000
DTSTAMP:20260422T233924
CREATED:20250216T201242Z
LAST-MODIFIED:20250216T202007Z
UID:17583-1741120200-1741123800@l8nx.com
SUMMARY:L8NX Community Online Monthly Meet-Up
DESCRIPTION:🍍 L8NX Community Online Monthly Meet-Up 🍓 \nLast month was all about serious business\, but this time we’re keeping it light and fun! 🎉Join us for an easy\, laid-back game of Fruit Match on March 4th! 🍌🍉 \nThink you know your apples from your oranges? 🍏🍊 Test your memory and have a blast with fellow community members! \n📅 Date: March 4th🕒 Time: 8:30 PM EST📍 Where: Online (Link to be provided) \nMark your calendars and get ready to mix and match your way to victory! See you there! 🎈
URL:https://l8nx.com/event/l8nx-community-online-monthly-meet-up/
ATTACH;FMTTYPE=image/png:https://l8nx.com/wp-content/uploads/2025/02/Fruit-Match-e1739736713837.png
END:VEVENT
BEGIN:VEVENT
DTSTART;VALUE=DATE:20250307
DTEND;VALUE=DATE:20250922
DTSTAMP:20260422T233924
CREATED:20250307T192206Z
LAST-MODIFIED:20250922T164349Z
UID:17686-1741305600-1758499199@l8nx.com
SUMMARY:L8NX Fall Festival
DESCRIPTION:🍂 Calling All Vendors! 🍂 L8NX Fall Festival – September 6th! \nGet ready for a fantastic autumn celebration! The L8NX Fall Festival is happening on September 6th\, and we’re currently accepting vendor applications! 🎉 \nThis is your chance to showcase your business\, connect with the community\, and be part of an exciting seasonal event. Stay tuned—more details coming soon! \nInterested in joining us? Apply now to secure your spot~ ~ info@l8nx.com🍁✨ \n🍁🎉 Now Featuring a $1\,000 Treasure Hunt! 🎉🍁 \nGet ready for the L8NX Fall Festival on September 6th—a day filled with community\, fun\, and now… an EPIC $1\,000 TREASURE HUNT! 💰🔎 \nThis is a huge opportunity for vendors—don’t miss your chance to be part of an event that’s bringing crowds\, excitement\, and big prizes! 🛍️🎶🍂 \n📅 Date: September 6th📍 Location: TBD💰 $1\,000 Treasure Hunt – Open to All Attendees! \nVendors\, spots are filling fast! Secure your space today and be part of this must-attend fall event! \n📩 Email us to reserve your booth now! \n#L8NXFallFestival #TreasureHunt #VendorOpportunity #CommunityFun
URL:https://l8nx.com/event/l8nx-fall-festival/
ATTACH;FMTTYPE=image/png:https://l8nx.com/wp-content/uploads/2025/03/Fall-Festival-TH-e1743472825522.png
END:VEVENT
BEGIN:VEVENT
DTSTART;VALUE=DATE:20250308
DTEND;VALUE=DATE:20250309
DTSTAMP:20260422T233924
CREATED:20250302T202040Z
LAST-MODIFIED:20250302T202157Z
UID:17671-1741392000-1741478399@l8nx.com
SUMMARY:International Women’s Day
DESCRIPTION:👑 At L8NX\, we support women’s voices—whether in business\, the arts\, wellness\, or leadership. Today\, we celebrate International Women’s Day by honoring the strength\, resilience\, and achievements of women in our community and beyond. 💜✨
URL:https://l8nx.com/event/international-womens-day-3/
ATTACH;FMTTYPE=image/png:https://l8nx.com/wp-content/uploads/2025/03/International-Womens-Day-e1740946690987.png
END:VEVENT
BEGIN:VEVENT
DTSTART;VALUE=DATE:20250315
DTEND;VALUE=DATE:20250316
DTSTAMP:20260422T233924
CREATED:20250315T170847Z
LAST-MODIFIED:20250315T170847Z
UID:17767-1741996800-1742083199@l8nx.com
SUMMARY:Beware the Ides of March!
DESCRIPTION:You often hear the phrase “Beware the Ides of March!” Do we need to worry about bad omens on March 15th? \nNo. Unless you are named Julius Caesar\, or you are part of a Shakespearean Tragedy\, you can just have a good day. \nMake it even better by joining L8NX today! \n  \n#l8nx #l8nxers #l8nxcommunity #justgoodvibes #todayisagoodday \n 
URL:https://l8nx.com/event/beware-the-ides-of-march/
ATTACH;FMTTYPE=image/png:https://l8nx.com/wp-content/uploads/2025/03/March-15-e1742058507894.png
END:VEVENT
BEGIN:VEVENT
DTSTART;VALUE=DATE:20250317
DTEND;VALUE=DATE:20250318
DTSTAMP:20260422T233924
CREATED:20250302T202909Z
LAST-MODIFIED:20250302T203508Z
UID:17674-1742169600-1742255999@l8nx.com
SUMMARY:St. Patrick’s Day ‘Share Your Green’ Challenge
DESCRIPTION:Are you feeling lucky? 🍀💚 Today is all about celebrating St. Patrick’s Day in style! \n🌈 Join the L8NX ‘Share Your Green’ Challenge! 🌈📸 Snap a pic of your most festive green outfit\, drink\, or décor and tag us #L8nxLuckyMe! The most creative post gets a shoutout in our next newsletter! \n💡 Fun Fact: Did you know that green is also the color of growth and success? At L8NX\, we’re all about growing together—in business\, community\, and life! 🌱
URL:https://l8nx.com/event/st-patricks-day-share-your-green-challenge/
ATTACH;FMTTYPE=image/png:https://l8nx.com/wp-content/uploads/2025/03/Green-Contest-e1740947455943.png
END:VEVENT
BEGIN:VEVENT
DTSTART;VALUE=DATE:20250329
DTEND;VALUE=DATE:20250330
DTSTAMP:20260422T233924
CREATED:20250228T173903Z
LAST-MODIFIED:20250228T173903Z
UID:17655-1743206400-1743292799@l8nx.com
SUMMARY:Student Musicians Perform- More Music Foundation
DESCRIPTION:Looking for a way to be inspired? Support local kids!
URL:https://l8nx.com/event/student-musicians-perform-more-music-foundation/
ATTACH;FMTTYPE=image/png:https://l8nx.com/wp-content/uploads/2025/02/Student-Music-e1740764325211.png
END:VEVENT
END:VCALENDAR