BEGIN:VCALENDAR
VERSION:2.0
PRODID:-//L8NX - ECPv6.8.3//NONSGML v1.0//EN
CALSCALE:GREGORIAN
METHOD:PUBLISH
X-ORIGINAL-URL:https://l8nx.com
X-WR-CALDESC:Events for L8NX
REFRESH-INTERVAL;VALUE=DURATION:PT1H
X-Robots-Tag:noindex
X-PUBLISHED-TTL:PT1H
BEGIN:VTIMEZONE
TZID:UTC
BEGIN:STANDARD
TZOFFSETFROM:+0000
TZOFFSETTO:+0000
TZNAME:UTC
DTSTART:20240101T000000
END:STANDARD
END:VTIMEZONE
BEGIN:VEVENT
DTSTART;VALUE=DATE:20240414
DTEND;VALUE=DATE:20241210
DTSTAMP:20260423T170231
CREATED:20230303T165001Z
LAST-MODIFIED:20240419T191916Z
UID:10512-1713052800-1733788799@l8nx.com
SUMMARY:L8NX Treasure Hunt
DESCRIPTION:Join the 2024 L8NX Treasure Hunt and find a treasure worth over $1\,000!\nEight local businesses got together and hid a Treasure Chest- it’s your job to visit each business to see if you can find the Treasure.\nCheck back for clues and details. Tickets are on sale now! \n 
URL:https://l8nx.com/event/l8nx-treasure-hunt/
ATTACH;FMTTYPE=image/png:https://l8nx.com/wp-content/uploads/2023/03/Ask-About-Our-Treasure-Hunt.png
END:VEVENT
BEGIN:VEVENT
DTSTART;VALUE=DATE:20240504
DTEND;VALUE=DATE:20240505
DTSTAMP:20260423T170231
CREATED:20240504T174739Z
LAST-MODIFIED:20240504T174739Z
UID:16214-1714780800-1714867199@l8nx.com
SUMMARY:Happy Star Wars Day!
DESCRIPTION:🌟 Happy May the Fourth\, fellow Jedi and Sith! 🌟 \nToday we celebrate all things Star Wars! May the Force be strong with you as you embark on your galactic adventures! Whether you’re rewatching the movies\, quoting your favorite lines\, or dressing up as your favorite characters\, embrace the spirit of the Force and let your imagination soar to a galaxy far\, far away. ✨ \n#MayTheFourthBeWithYou #StarWarsDay
URL:https://l8nx.com/event/happy-star-wars-day/
ATTACH;FMTTYPE=image/png:https://l8nx.com/wp-content/uploads/2024/05/Blue-Green-Modern-Futuristic-Sci-fi-Movie-Poster-1-e1714844799611.png
END:VEVENT
BEGIN:VEVENT
DTSTART;TZID=UTC:20240507T203000
DTEND;TZID=UTC:20240507T213000
DTSTAMP:20260423T170231
CREATED:20240406T185633Z
LAST-MODIFIED:20240427T162404Z
UID:16026-1715113800-1715117400@l8nx.com
SUMMARY:L8NX Community Monthly Meet Up
DESCRIPTION:Join us for our first Monthly Meet Up! An online get together for the L8NX community to share ideas and connect with fellow members. We’ll be discussing exciting developments\, brainstorming new projects\, and fostering a supportive environment for everyone involved. Whether you’re a seasoned veteran or new to the L8NX community\, this is the perfect opportunity to engage\, learn\, and grow together.\n\nMark your calendars and get ready to connect on zoom = = = https://us02web.zoom.us/j/87990515254Meeting ID: 879 9051 5254 \n\n\n\n\n\n\n\n\n\n\n\n\n\n\n\n\n#L8NXCommunity #MonthlyMeetUp #Collaboration #Innovation \n \n\n\n\n\n\n\n\n\n  \n 
URL:https://l8nx.com/event/l8nx-community-monthly-meet-up/
ATTACH;FMTTYPE=image/png:https://l8nx.com/wp-content/uploads/2024/04/Monthly-Meet-Up-e1714232794581.png
END:VEVENT
BEGIN:VEVENT
DTSTART;TZID=UTC:20240512T113000
DTEND;TZID=UTC:20240512T133000
DTSTAMP:20260423T170231
CREATED:20240419T192853Z
LAST-MODIFIED:20240510T142216Z
UID:16080-1715513400-1715520600@l8nx.com
SUMMARY:Mother's Day Brunch - CANCELLED
DESCRIPTION:🌧️☔ Unfortunately\, Mother Nature has decided to rain on our Mother’s Day parade! Due to inclement weather\, we’re canceling our much-anticipated Mother’s Day brunch. While we’re disappointed we won’t be able to celebrate together under the sun\, the safety and comfort of our guests are our top priorities. Stay tuned for more fun events in May. In the meantime\, let’s shower our moms with love and appreciation indoors. Happy Mother’s Day to all the incredible moms! 🌷💕
URL:https://l8nx.com/event/%f0%9f%8c%b8%f0%9f%8d%bd%ef%b8%8f-mothers-day-brunch-%f0%9f%8d%bd%ef%b8%8f%f0%9f%8c%b8/
LOCATION:McKeldin Area- Patapsco Park\, 11676 Marriottsville Rd\, Marriottville\, 21104\, United States
ATTACH;FMTTYPE=image/png:https://l8nx.com/wp-content/uploads/2024/04/Cancelled-e1715350922198.png
END:VEVENT
BEGIN:VEVENT
DTSTART;VALUE=DATE:20240527
DTEND;VALUE=DATE:20240528
DTSTAMP:20260423T170231
CREATED:20240510T022424Z
LAST-MODIFIED:20240510T022424Z
UID:16252-1716768000-1716854399@l8nx.com
SUMMARY:Memorial Day: Remember and Honor
DESCRIPTION:🌞 As we kick off the summer season\, let’s also take a moment to honor the true meaning of Memorial Day. \nToday\, amidst the joy and sunshine\, let’s pause to remember and pay tribute to the brave souls who made the sacrifice for our freedom. Join us in observing a moment of silence to honor their legacy at 3pm. \n☀️ #MemorialDay #SummerStart #MomentOfSilence 🕊️ \n 
URL:https://l8nx.com/event/memorial-day-remember-and-honor/
ATTACH;FMTTYPE=image/png:https://l8nx.com/wp-content/uploads/2024/05/Memorial-Day-e1715307761578.png
END:VEVENT
END:VCALENDAR