BEGIN:VCALENDAR
VERSION:2.0
PRODID:-//L8NX - ECPv6.8.3//NONSGML v1.0//EN
CALSCALE:GREGORIAN
METHOD:PUBLISH
X-WR-CALNAME:L8NX
X-ORIGINAL-URL:https://l8nx.com
X-WR-CALDESC:Events for L8NX
REFRESH-INTERVAL;VALUE=DURATION:PT1H
X-Robots-Tag:noindex
X-PUBLISHED-TTL:PT1H
BEGIN:VTIMEZONE
TZID:UTC
BEGIN:STANDARD
TZOFFSETFROM:+0000
TZOFFSETTO:+0000
TZNAME:UTC
DTSTART:20240101T000000
END:STANDARD
END:VTIMEZONE
BEGIN:VEVENT
DTSTART;VALUE=DATE:20240308
DTEND;VALUE=DATE:20240309
DTSTAMP:20260423T202706
CREATED:20240301T232318Z
LAST-MODIFIED:20240301T232318Z
UID:15760-1709856000-1709942399@l8nx.com
SUMMARY:International Women's Day
DESCRIPTION:🌟 Happy International Women’s Day! 🌸✨ Today\, we celebrate the strength\, resilience\, and achievements of women around the world. 💪❤️ Let’s honor the incredible women who have shaped history\, inspired change\, and continue to break barriers. 🚀🌍 Here’s to equality\, empowerment\, and lifting each other higher! 🌺💖 \n  \n#InternationalWomensDay #BreakTheBias #WomensDay2024 #EmpowerHer 🎉✨ \n 
URL:https://l8nx.com/event/international-womens-day-2/
ATTACH;FMTTYPE=image/png:https://l8nx.com/wp-content/uploads/2024/03/International-Womens-Day-e1709335308514.png
END:VEVENT
BEGIN:VEVENT
DTSTART;VALUE=DATE:20240314
DTEND;VALUE=DATE:20240315
DTSTAMP:20260423T202706
CREATED:20240301T232634Z
LAST-MODIFIED:20240301T232634Z
UID:15763-1710374400-1710460799@l8nx.com
SUMMARY:🥧 Pi Day
DESCRIPTION:🥧 Happy Pi Day\, Friends! 🎉✨ Today\, we’re indulging in the sweet side of math – because who says numbers can’t be delicious? 🤓🍰 Grab your favorite pie\, whether it’s apple\, cherry\, or a quirky math-themed creation\, and let’s savor the infinite joy of Pi Day! 🥳🤩 #PiDay #PieDay #SweetMath #IndulgeInPi 🥧✨
URL:https://l8nx.com/event/happy-pi-day/
ATTACH;FMTTYPE=image/png:https://l8nx.com/wp-content/uploads/2024/03/Pi-Day-e1709335521837.png
END:VEVENT
BEGIN:VEVENT
DTSTART;VALUE=DATE:20240317
DTEND;VALUE=DATE:20240318
DTSTAMP:20260423T202706
CREATED:20231231T224544Z
LAST-MODIFIED:20231231T224544Z
UID:15356-1710633600-1710719999@l8nx.com
SUMMARY:🍀 L8NX 'WEARING O' THE GREEN' CONTEST 🍀
DESCRIPTION:🍀 L8NX ‘WEARING O’ THE GREEN’ CONTEST 🍀 \nAre you ready to turn the town green this St. Paddy’s Day? ☘️ Show off your most fabulous green outfits and join the L8NX ‘Wearing O’ the Green’ contest! 🌈 \n\nDress up in your best green ensemble.\nStrike a pose\, and capture the magic in a photo.\nPost your picture on Instagram\, Facebook\, or Twitter.\nTag @L8NX and use the hashtag #L8NXLuckyMe\n\n🍀 Bragging rights as the most stylish St. Paddy’s reveler! \nLet’s turn social media into a sea of green and spread the St. Patrick’s Day cheer! May the luck of the Irish be with you! 💚
URL:https://l8nx.com/event/%f0%9f%8d%80-l8nx-wearing-o-the-green-contest-%f0%9f%8d%80/
ATTACH;FMTTYPE=image/png:https://l8nx.com/wp-content/uploads/2023/12/Green-Contest-e1704062675899.png
END:VEVENT
BEGIN:VEVENT
DTSTART;VALUE=DATE:20240325
DTEND;VALUE=DATE:20240326
DTSTAMP:20260423T202706
CREATED:20240302T014848Z
LAST-MODIFIED:20240302T015047Z
UID:15767-1711324800-1711411199@l8nx.com
SUMMARY:Maryland Day
DESCRIPTION:🦀 Happy Maryland Day\, fellow Marylanders! 🎉🎈 Today\, we’re waving our flags high\, savoring Old Bay flavors\, and celebrating the unique charm of our beloved state. From the Chesapeake Bay to the mountains of Western Maryland\, here’s to the land of pride and joy! 🌻🏞️ #MarylandDay #HomeSweetHome #CharmCityCharm #MarylandPride 🦀✨
URL:https://l8nx.com/event/maryland-day/
ATTACH;FMTTYPE=image/png:https://l8nx.com/wp-content/uploads/2024/03/Maryland-Day-e1709344012827.png
END:VEVENT
BEGIN:VEVENT
DTSTART;TZID=UTC:20240330T100000
DTEND;TZID=UTC:20240330T120000
DTSTAMP:20260423T202706
CREATED:20231228T031246Z
LAST-MODIFIED:20240320T231255Z
UID:15279-1711792800-1711800000@l8nx.com
SUMMARY:Easter Egg Hunt & Brunch Box
DESCRIPTION:🌸🐰 EASTER EGG HUNT & BRUNCH BOX! 🐣🥐 \nYou’re invited to a joyous Easter celebration at the scenic Patapsco State Park! 🌳 Join us for a delightful Easter Egg Hunt and a scrumptious take-away ‘Brunch Box’ filled with treats on March 30\, 2024. \n  \n🥚 EASTER EGG HUNT DETAILS: \n🎟️ Single Child (Ages 2-5): $7\n🎟️ Two or More Children: $5 each \n🍭 Each egg is filled with a sweet surprise!\n🕒 Egg Hunt begins at 10:00 am\n📍 Meet at the Hollofield 301 Pavillion in Patapsco State Park \n  \n  \n🌈 EASTER EGG HUNT + BRUNCH BOX COMBO: \n🎟️ Single Child: $15\n🎟️ Two or More Children: $13 each \n  \n🍽️ TAKE-AWAY ‘BRUNCH BOX’ DETAILS: Indulge in a delightful brunch featuring snacks like: \n🥐 Fresh Croissant or Muffin\n🍊 Orange or Apple Juice\n🥣 Granola or Yogurt \n  \n!!EXTRAS!! \n📸 CAPTURE THE JOY AT OUR PHOTO BOOTH: Dress up with butterfly wings\, flower crowns\, and superhero capes for pictures. We’ll email you for free! 🦋🦸‍♂️ \n  \n🎉 SCHEDULE: \n\n10:00 AM: Egg Hunt Kickoff\n11:30 AM: Brunch Box Pickup\n\n  \n🌟 HOW TO RSVP: \n\nSelect your desired ticket option.\nReserve your spot.\n\n  \nLet’s create wonderful memories and celebrate the joy of Easter together! 🌷 Don’t miss the chance to explore Patapsco State Park\, hunt for eggs\, and enjoy a delightful brunch with family and friends. \n  \n📌 NOTE: \n\nChildren under 2 are invited to join in the fun for free!\n\n🌸 We can’t wait to see you there! 🌸 #PatapscoEasterHunt #BrunchInNature #Eggstravaganza2024 🐇✨ \n 
URL:https://l8nx.com/event/easter-egg-hunt-brunch-box/
LOCATION:Patapsco Valley State Park\, 8020 Baltimore National Pike\, Ellicott City\, MD 21043
ATTACH;FMTTYPE=image/png:https://l8nx.com/wp-content/uploads/2023/12/Easter-Egg-Hunt-Brunch-Flyer-e1703733128505.png
END:VEVENT
END:VCALENDAR