BEGIN:VCALENDAR
VERSION:2.0
PRODID:-//L8NX - ECPv6.8.3//NONSGML v1.0//EN
CALSCALE:GREGORIAN
METHOD:PUBLISH
X-ORIGINAL-URL:https://l8nx.com
X-WR-CALDESC:Events for L8NX
REFRESH-INTERVAL;VALUE=DURATION:PT1H
X-Robots-Tag:noindex
X-PUBLISHED-TTL:PT1H
BEGIN:VTIMEZONE
TZID:UTC
BEGIN:STANDARD
TZOFFSETFROM:+0000
TZOFFSETTO:+0000
TZNAME:UTC
DTSTART:20230101T000000
END:STANDARD
END:VTIMEZONE
BEGIN:VEVENT
DTSTART;VALUE=DATE:20230801
DTEND;VALUE=DATE:20230901
DTSTAMP:20260424T085322
CREATED:20230702T174256Z
LAST-MODIFIED:20230902T195756Z
UID:12113-1690848000-1693526399@l8nx.com
SUMMARY:August: Tropical Month
DESCRIPTION:August is Tropical Month! \nTropical Inspiration in Every Corner 🌺: L8NX encourages everyone to embrace the tropical spirit of August\, regardless of their location. Whether enjoying a sandy beach or a fruity drink in the backyard\, the tropical vibes are irresistible. \nJoin the Tropical Community 🌞: Beyond products\, L8NX aims to create a community of like-minded tropical enthusiasts. People are invited to share their tropical adventures\, experiences\, and travel stories using #L8NXTropicalMonth on social media\, connecting with others and exchanging tips on creating tropical havens at home. \nEscape with Tropical Reads 🌴: L8NX plans to recommend books set in tropical locations or exploring adventure\, exploration\, and self-discovery themes. Readers can immerse themselves in faraway islands\, mysterious jungles\, and daring journeys\, igniting a desire for their own tropical expeditions. Check out our favorites on our L8NX Facebook page! \nTropical Treats to Savor 🍍: Participants can delight their taste buds by attending the “Tropical Treats: Online Cooking Class\,” featuring mouthwatering recipes inspired by tropical cuisines. From refreshing fruit salsas to tangy seafood dishes and exotic beverages\, the recipes add a touch of the tropics to dining tables. Sign up for the Taste of the Tropics Online Cooking Class! \nOverall\, L8NX invites everyone to embark on a journey to the tropics\, celebrating diversity and the allure of tropical beauty throughout the Tropical Month. 🌴🌞🍍
URL:https://l8nx.com/event/august-tropical-month/
END:VEVENT
BEGIN:VEVENT
DTSTART;VALUE=DATE:20230826
DTEND;VALUE=DATE:20230827
DTSTAMP:20260424T085322
CREATED:20230809T215229Z
LAST-MODIFIED:20230814T220639Z
UID:12185-1693008000-1693094399@l8nx.com
SUMMARY:Tropical Treats Online Cooking Class
DESCRIPTION:🌴🍍🍹 Calling all food enthusiasts! Join us for a tantalizing tropical escape right from your kitchen with our “Tropical Treats Cooking Class Workshop” on Zoom! 🍹🍍🌴 \n  \n📅 Date: August 14th \n⏰ Time: 4:00-7:00pm \n📍 Where: Zoom (Link will be provided upon registration) \n🎟️ Tickets: $5 (Limited spots available\, so reserve your spot now!) \n  \n  \nIndulge your taste buds with a delightful menu featuring: \n🍤 Pineapple & Shrimp Skewers – A savory-sweet combination grilled to perfection! \n🍛 Coconut Curry with Mango & Chicken – Creamy and aromatic\, with a tropical twist! \n🥭 Mango & Avocado Salsa – Bursting with fresh flavors and a hint of chili! \n🍹 Passion Fruit Mojito Mocktail – A refreshing non-alcoholic sip of paradise! \n  \n🍽️ In this 3-hour workshop\, you’ll: \n🔹 Explore unique ingredients from the tropics and their vibrant flavors. \n🔹 Gain hands-on experience creating your own tropical treats. \n🔹 Get recipe cards to recreate these mouthwatering dishes at home. \n  \n🏝️ No matter your cooking skills\, our Tropical Treats Cooking Class Workshop is perfect for beginners and seasoned chefs alike! Come along\, have fun\, and taste the magic of the tropics! Don’t miss out on this culinary journey to paradise! Grab your ticket now! \n\n\n\n\n\n\n\n\n\n 
URL:https://l8nx.com/event/tropical-treats-online-cooking-class/
ATTACH;FMTTYPE=image/bmp:https://l8nx.com/wp-content/uploads/2023/08/Tropical-Treats-bb.bmp
END:VEVENT
END:VCALENDAR