BEGIN:VCALENDAR
VERSION:2.0
PRODID:-//L8NX - ECPv6.8.3//NONSGML v1.0//EN
CALSCALE:GREGORIAN
METHOD:PUBLISH
X-WR-CALNAME:L8NX
X-ORIGINAL-URL:https://l8nx.com
X-WR-CALDESC:Events for L8NX
REFRESH-INTERVAL;VALUE=DURATION:PT1H
X-Robots-Tag:noindex
X-PUBLISHED-TTL:PT1H
BEGIN:VTIMEZONE
TZID:UTC
BEGIN:STANDARD
TZOFFSETFROM:+0000
TZOFFSETTO:+0000
TZNAME:UTC
DTSTART:20230101T000000
END:STANDARD
END:VTIMEZONE
BEGIN:VEVENT
DTSTART;TZID=UTC:20230501T080000
DTEND;TZID=UTC:20230531T170000
DTSTAMP:20260424T132739
CREATED:20230301T181741Z
LAST-MODIFIED:20230816T021411Z
UID:10447-1682928000-1685552400@l8nx.com
SUMMARY:May: Nature Lovers
DESCRIPTION:At L8NX\, we want everyone to enjoy the beauty of nature. That’s why we’re excite to dedicate a month to Nature Lovers. This month will be filled with promotions and events that celebrates the wonders of our natural world. We are passionate about protecting our planet and are dedicated to supporting sustainable and eco-friendly initiatives. \nL8NX is dedicated to preserving nature and keeping the earth healthy\, so come and be a part of something special. \nJoin us in supporting the environment and explore nature with L8NX! \n\n\n 	Mother’s Day in the Park @ Willow Oak Flower and Herb Garden\n 	Let’s Take a Hike! @ Seneca Creek State Park
URL:https://l8nx.com/event/may-nature-lovers-month/
END:VEVENT
BEGIN:VEVENT
DTSTART;VALUE=DATE:20230505
DTEND;VALUE=DATE:20230506
DTSTAMP:20260424T132739
CREATED:20230301T181812Z
LAST-MODIFIED:20230301T181812Z
UID:10449-1683244800-1683331199@l8nx.com
SUMMARY:Cinco de Mayo
DESCRIPTION:
URL:https://l8nx.com/event/cinco-de-mayo/
END:VEVENT
BEGIN:VEVENT
DTSTART;TZID=UTC:20230514T100000
DTEND;TZID=UTC:20230514T140000
DTSTAMP:20260424T132739
CREATED:20230406T195920Z
LAST-MODIFIED:20230511T180449Z
UID:11203-1684058400-1684072800@l8nx.com
SUMMARY:Mother's Day Brunch at Willow Oak Flower and Herb Garden
DESCRIPTION:Celebrate mom with a delicious brunch in a peaceful garden! L8NX is hosting Mother’s Day Brunch at  Willow Oak Flower and Herb Garden. Skip the crowded restaurants and enjoy the tranquility of the garden. \nBrunch buffet: sandwiches\, pastries\, fruit\, cheese\, & made to order omelets. \nDrinks: coffee\, tea\, fruit infused water\, Mimosas\, Bellinis\, & Bloody Marys.  \nFood served from 11am to 1pm \nSeating from 10am to 2pm \n  \n⭐Are you a L8NX Member? Membership entitles you to save 25%! Email us for the discount code⭐
URL:https://l8nx.com/event/mothers-day-brunch-at-willow-oak-flower-and-herb-garden/
LOCATION:Willow Oak Flower and Herb Garden\, 8109 Telegraph Rd\, Severn\, Maryland\, 21144
ATTACH;FMTTYPE=image/jpeg:https://l8nx.com/wp-content/uploads/2023/04/Mothers-Day_small.jpg
ORGANIZER;CN="L8NX":MAILTO:info@l8xn.com
END:VEVENT
BEGIN:VEVENT
DTSTART;TZID=UTC:20230520T093000
DTEND;TZID=UTC:20230520T140000
DTSTAMP:20260424T132739
CREATED:20230412T232353Z
LAST-MODIFIED:20230519T180431Z
UID:11292-1684575000-1684591200@l8nx.com
SUMMARY:Let's Take a Hike @ Seneca Creek State Park
DESCRIPTION:Escape the hustle and bustle of city life and reconnect with nature at Seneca Creek State Park on May 20th! \nJoin L8NX for a rejuvenating  2-hour guided hike around Clopper Lake that includes a delicious lunch for just $25. We’ll walk at a peaceful pace and take time for nature pictures. \nImmerse yourself in the beauty of the park as you embark on a scenic hike with our experienced guide. Whether you’re a seasoned nature lover or just looking for a new adventure\, this hike is the perfect way to unwind and recharge. Well-behaved children and pets are welcome and encouraged to join in. \nSign up now and treat yourself to a day of peace and tranquility in the great outdoors! \n  \nLunch menu: Choice of sandwiches {Turkey and Provolone\, Roast Beef and Cheddar\, Red Peppers and Mozzarella}\, sides and salads {Hummus\, chips\, fruits\, and vegies} \nDrink menu: Water\, Iced Tea\, or Soda \n  \n⭐Are you a L8NX Member? Membership entitles you to save 25%! Email us for the discount code⭐ \nNOTE: Tickets for hiking and lunch do not include access to the park.  \nService Fee Charges for the park: $3 a person for Maryland residents. $5 a person for Out-of-State residents \nHiking Event \n  \nMap of the park \nhttps://dnr.maryland.gov/publiclands/Pages/parkmaps/senecamap.aspx
URL:https://l8nx.com/event/lets-take-a-hike-seneca-creek-state-park/
LOCATION:Seneca Creek State Park\, 11950 Clopper Rd\, Gaithersburg\, Maryland\, 20878
ATTACH;FMTTYPE=image/png:https://l8nx.com/wp-content/uploads/2023/04/Hiking-Event-Flyer-e1681342693801.png
ORGANIZER;CN="FOUND Adventures":MAILTO:customer.care@found-yoga.com
END:VEVENT
BEGIN:VEVENT
DTSTART;VALUE=DATE:20230527
DTEND;VALUE=DATE:20230528
DTSTAMP:20260424T132739
CREATED:20230411T180456Z
LAST-MODIFIED:20230411T180456Z
UID:11281-1685145600-1685231999@l8nx.com
SUMMARY:Memorial Day Picnic
DESCRIPTION:Memorial Day Picnic
URL:https://l8nx.com/event/memorial-day-picnic/
END:VEVENT
END:VCALENDAR