BEGIN:VCALENDAR
VERSION:2.0
PRODID:-//L8NX - ECPv6.8.3//NONSGML v1.0//EN
CALSCALE:GREGORIAN
METHOD:PUBLISH
X-ORIGINAL-URL:https://l8nx.com
X-WR-CALDESC:Events for L8NX
REFRESH-INTERVAL;VALUE=DURATION:PT1H
X-Robots-Tag:noindex
X-PUBLISHED-TTL:PT1H
BEGIN:VTIMEZONE
TZID:UTC
BEGIN:STANDARD
TZOFFSETFROM:+0000
TZOFFSETTO:+0000
TZNAME:UTC
DTSTART:20250101T000000
END:STANDARD
END:VTIMEZONE
BEGIN:VEVENT
DTSTART;TZID=UTC:20251025T180000
DTEND;TZID=UTC:20251025T210000
DTSTAMP:20260422T223042
CREATED:20250922T155704Z
LAST-MODIFIED:20250922T155756Z
UID:18582-1761415200-1761426000@l8nx.com
SUMMARY:L8NX at the 98th Mummers' Parade
DESCRIPTION:Come see L8NX at the 98th Mummers’ Parade! \n  \n  \nhttps://mainstreethagerstown.org/event/98th-alsatia-mummers-parade/ \n  \n98th Annual Alsatia Mummers’ Parade is the largest night-time parade of its kind on the East Coast\, which includes floats\, bands\, walking groups\, decorated vehicles\, Mummers (persons dressed in costume)\, and MORE!!! Prizes up to $2\,000 are awarded to eligible participants. Official parade tickets are only sold through The Maryland Theatre. Check out our Facebook and Instagram pages\, “AlsatiaMummersParade” and www.alsatiaclubinc.com for additional parade information\, submit a parade entry application\, or to become a sponsor of Hagerstown’s Favorite Tradition. \n\n\nDetails\n\nDate:\nOctober 25\nTime:\n\n6:00 pm – 9:00 pm\n\nEvent Categories:\nHolidays\, Ticketed Events\nWebsite:\nhttps://www.alsatiaclubinc.com/parade/\n\n\n\nOrganizer\n\n\nThe Alsatia Club and Downtown Hagerstown\n\nView Organizer Website\n\n\n\n\n\nVenue\n\n\nNorth and South Potomac Street\n\n\n245 North Potomac\nHagerstown\, MD 21740
URL:https://l8nx.com/event/l8nx-at-the-98th-mummers-parade/
ATTACH;FMTTYPE=image/png:https://l8nx.com/wp-content/uploads/2025/09/Mummers-e1758556609474.png
END:VEVENT
BEGIN:VEVENT
DTSTART;VALUE=DATE:20251101
DTEND;VALUE=DATE:20251201
DTSTAMP:20260422T223042
CREATED:20250811T225349Z
LAST-MODIFIED:20250811T225349Z
UID:18240-1761955200-1764547199@l8nx.com
SUMMARY:November- Kindness Challenge!
DESCRIPTION:
URL:https://l8nx.com/event/november-kindness-challenge/
ATTACH;FMTTYPE=image/jpeg:https://l8nx.com/wp-content/uploads/2025/08/White-Modern-Minimalist-Monthly-Planner-November-2025-Calendar-e1754952725136.jpg
END:VEVENT
BEGIN:VEVENT
DTSTART;VALUE=DATE:20251101
DTEND;VALUE=DATE:20251201
DTSTAMP:20260422T223042
CREATED:20251002T193135Z
LAST-MODIFIED:20251002T215437Z
UID:18623-1761955200-1764547199@l8nx.com
SUMMARY:November is Food Drive Month
DESCRIPTION:L8NX November Food Drive 🍽️\nThis month\, we’re collecting healthy\, shelf-stable food items to support local families in need. \n🛒 Top items: \n\n\nCanned proteins \n\n\nWhole grains \n\n\nLow-sodium veggies & soups \n\n\nNut butters \n\n\nShelf-stable milk \n\n\n📲 Follow us on social for updates and ways to help. \nLet’s make a difference — one meal at a time.
URL:https://l8nx.com/event/l8nx-november-food-drive/
ATTACH;FMTTYPE=image/png:https://l8nx.com/wp-content/uploads/2025/10/Food-Drive-Flyer-e1759433618417.png
END:VEVENT
BEGIN:VEVENT
DTSTART;VALUE=DATE:20251201
DTEND;VALUE=DATE:20260101
DTSTAMP:20260422T223042
CREATED:20250811T230040Z
LAST-MODIFIED:20250811T230040Z
UID:18246-1764547200-1767225599@l8nx.com
SUMMARY:December is Appreciation Month
DESCRIPTION:
URL:https://l8nx.com/event/december-is-appreciation-month/
ATTACH;FMTTYPE=image/png:https://l8nx.com/wp-content/uploads/2025/08/Yellow-and-Brown-Elegant-Appreciation-Message-Instagram-Post-e1754953149943.png
END:VEVENT
BEGIN:VEVENT
DTSTART;VALUE=DATE:20260101
DTEND;VALUE=DATE:20260201
DTSTAMP:20260422T223042
CREATED:20251002T215128Z
LAST-MODIFIED:20251002T215224Z
UID:18631-1767225600-1769903999@l8nx.com
SUMMARY:January is 'Let Go to Grow' Month
DESCRIPTION:“Let Go to Grow” is not about reduction for its own sake — it’s about strategic subtraction. It’s the art of focusing your time\, energy\, and resources where they matter most.
URL:https://l8nx.com/event/january-is-let-go-to-grow-month-2/
ATTACH;FMTTYPE=image/png:https://l8nx.com/wp-content/uploads/2025/10/Let-go-to-grow-e1759441820708.png
END:VEVENT
BEGIN:VEVENT
DTSTART;VALUE=DATE:20260201
DTEND;VALUE=DATE:20260301
DTSTAMP:20260422T223042
CREATED:20251030T203821Z
LAST-MODIFIED:20251030T203821Z
UID:18724-1769904000-1772323199@l8nx.com
SUMMARY:February is Affairs of the Heart Month
DESCRIPTION:
URL:https://l8nx.com/event/february-is-affairs-of-the-heart-month/
ATTACH;FMTTYPE=image/png:https://l8nx.com/wp-content/uploads/2025/10/Affairs-of-the-Heart-e1761856672755.png
END:VEVENT
BEGIN:VEVENT
DTSTART;VALUE=DATE:20260301
DTEND;VALUE=DATE:20260401
DTSTAMP:20260422T223042
CREATED:20251030T204458Z
LAST-MODIFIED:20251030T204458Z
UID:18727-1772323200-1775001599@l8nx.com
SUMMARY:March is March Madness Month
DESCRIPTION:March is March Madness Month
URL:https://l8nx.com/event/march-is-march-madness-month/
ATTACH;FMTTYPE=image/png:https://l8nx.com/wp-content/uploads/2025/10/March-Madness-e1761857055637.png
END:VEVENT
BEGIN:VEVENT
DTSTART;VALUE=DATE:20260401
DTEND;VALUE=DATE:20260501
DTSTAMP:20260422T223042
CREATED:20260208T224343Z
LAST-MODIFIED:20260208T224343Z
UID:19200-1775001600-1777593599@l8nx.com
SUMMARY:L8NX 4th Annual Scholarship $400
DESCRIPTION:🎓 L8NX 4th Annual Scholarship \nL8NX is proud to announce our 4th Annual Scholarship Opportunity\, supporting students who are passionate about small businesses and local communities. \n📝 Scholarship Question:How do you see yourself using L8NX.com to build stronger connections between small businesses and your local community? \n📌 How to Apply:✔ Submit a short essay (250–500 words) or✔ Create a 2-minute video answering the question✔ Email your submission to info@l8nx.com \n📅 Application Window: April 1 – April 26🏆 Winner Announced: April 30💰 Scholarship Award: $400 \nWe’re excited to hear your ideas and perspectives. Good luck to all applicants!
URL:https://l8nx.com/event/l8nx-4th-annual-scholarship-400/
ATTACH;FMTTYPE=image/png:https://l8nx.com/wp-content/uploads/2026/02/Scholarship-2.png
END:VEVENT
BEGIN:VEVENT
DTSTART;VALUE=DATE:20260501
DTEND;VALUE=DATE:20260601
DTSTAMP:20260422T223042
CREATED:20260306T194618Z
LAST-MODIFIED:20260306T194618Z
UID:19324-1777593600-1780271999@l8nx.com
SUMMARY:May is Nature Lovers Month
DESCRIPTION:May is Nature Lovers Month
URL:https://l8nx.com/event/may-is-nature-lovers-month-2/
ATTACH;FMTTYPE=image/png:https://l8nx.com/wp-content/uploads/2026/03/Green-Nature-Illustration-Cover-Book-A4-Document-e1772826336734.png
END:VEVENT
BEGIN:VEVENT
DTSTART;VALUE=DATE:20260601
DTEND;VALUE=DATE:20260701
DTSTAMP:20260422T223042
CREATED:20260306T195512Z
LAST-MODIFIED:20260306T195512Z
UID:19327-1780272000-1782863999@l8nx.com
SUMMARY:June is Home Improvement Month
DESCRIPTION:June is Home Improvement Month
URL:https://l8nx.com/event/june-is-home-improvement-month-2/
ATTACH;FMTTYPE=image/png:https://l8nx.com/wp-content/uploads/2026/03/White-Simple-Home-Design-Vision-Board-Photo-Collage-e1772826889489.png
END:VEVENT
BEGIN:VEVENT
DTSTART;VALUE=DATE:20260701
DTEND;VALUE=DATE:20260801
DTSTAMP:20260422T223042
CREATED:20260306T200322Z
LAST-MODIFIED:20260306T200322Z
UID:19330-1782864000-1785542399@l8nx.com
SUMMARY:July is Friendship Month
DESCRIPTION:July is Friendship Month
URL:https://l8nx.com/event/july-is-friendship-month-2/
ATTACH;FMTTYPE=image/png:https://l8nx.com/wp-content/uploads/2026/03/Beige-Modern-Adopt-a-Friend-Photo-Collage-e1772827380698.png
END:VEVENT
BEGIN:VEVENT
DTSTART;VALUE=DATE:20260801
DTEND;VALUE=DATE:20260901
DTSTAMP:20260422T223042
CREATED:20260309T234112Z
LAST-MODIFIED:20260309T234112Z
UID:19343-1785542400-1788220799@l8nx.com
SUMMARY:August is Tropical Month
DESCRIPTION:August is Tropical Month
URL:https://l8nx.com/event/august-is-tropical-month-2/
ATTACH;FMTTYPE=image/png:https://l8nx.com/wp-content/uploads/2026/03/Colorful-Neon-Tropical-Summer-Party-Poster-Real-Estate-Flyer-e1773099644253.png
END:VEVENT
BEGIN:VEVENT
DTSTART;VALUE=DATE:20260901
DTEND;VALUE=DATE:20261001
DTSTAMP:20260422T223042
CREATED:20260309T234439Z
LAST-MODIFIED:20260309T234439Z
UID:19346-1788220800-1790812799@l8nx.com
SUMMARY:September is Fall Festival Month
DESCRIPTION:September is Fall Festival Month
URL:https://l8nx.com/event/september-is-fall-festival-month-2/
ATTACH;FMTTYPE=image/png:https://l8nx.com/wp-content/uploads/2026/03/Red-and-Yellow-Playful-Music-Festival-Poster-e1773099849974.png
END:VEVENT
END:VCALENDAR