BEGIN:VCALENDAR
VERSION:2.0
PRODID:-//L8NX - ECPv6.8.3//NONSGML v1.0//EN
CALSCALE:GREGORIAN
METHOD:PUBLISH
X-ORIGINAL-URL:https://l8nx.com
X-WR-CALDESC:Events for L8NX
REFRESH-INTERVAL;VALUE=DURATION:PT1H
X-Robots-Tag:noindex
X-PUBLISHED-TTL:PT1H
BEGIN:VTIMEZONE
TZID:UTC
BEGIN:STANDARD
TZOFFSETFROM:+0000
TZOFFSETTO:+0000
TZNAME:UTC
DTSTART:20230101T000000
END:STANDARD
END:VTIMEZONE
BEGIN:VEVENT
DTSTART;TZID=UTC:20230501T080000
DTEND;TZID=UTC:20230531T170000
DTSTAMP:20260422T221840
CREATED:20230301T181741Z
LAST-MODIFIED:20230816T021411Z
UID:10447-1682928000-1685552400@l8nx.com
SUMMARY:May: Nature Lovers
DESCRIPTION:At L8NX\, we want everyone to enjoy the beauty of nature. That’s why we’re excite to dedicate a month to Nature Lovers. This month will be filled with promotions and events that celebrates the wonders of our natural world. We are passionate about protecting our planet and are dedicated to supporting sustainable and eco-friendly initiatives. \nL8NX is dedicated to preserving nature and keeping the earth healthy\, so come and be a part of something special. \nJoin us in supporting the environment and explore nature with L8NX! \n\n\n 	Mother’s Day in the Park @ Willow Oak Flower and Herb Garden\n 	Let’s Take a Hike! @ Seneca Creek State Park
URL:https://l8nx.com/event/may-nature-lovers-month/
END:VEVENT
BEGIN:VEVENT
DTSTART;TZID=UTC:20230410T080000
DTEND;TZID=UTC:20230428T235900
DTSTAMP:20260422T221840
CREATED:20230410T172314Z
LAST-MODIFIED:20230414T151730Z
UID:11268-1681113600-1682726340@l8nx.com
SUMMARY:L8NX Scholarship Opportunity
DESCRIPTION:Scholarship name: L8NX Scholarship \nScholarship amount: $100 \nEligibility: Current or prospective students. \nSubmission: In a 1-2 minute video\, reel\, or TikTok\, or in a 250 word essay\, explain what L8NX is and how it could change the world. \nApplication deadline: April 28\, 2023 \nApplication process: Applicants must first create a free student account with L8NX using the code ZPE5BR4M. Next\, upload their scholarship submission to any social media platform with the tag #L8NXScholarship. If submitting an essay\, email to info@L8NX.com with the subject line “L8NX Scholarship Application” by April 28\, 2023. \nSelection process: The scholarship winner will be selected based on the quality of their video\, reel\, TikTok\, or essay\, as judged by a selected panel of experts. The winner will be notified April 30th\, 2023. \nBONUS: All applicants will receive $20 for taking the time to create a submission.
URL:https://l8nx.com/event/l8nx-scholarship-opportunity/
ATTACH;FMTTYPE=image/png:https://l8nx.com/wp-content/uploads/2023/04/Scholarship-Program-Flyer-e1681147491227.png
END:VEVENT
BEGIN:VEVENT
DTSTART;TZID=UTC:20230401T080000
DTEND;TZID=UTC:20230430T170000
DTSTAMP:20260422T221840
CREATED:20230301T181606Z
LAST-MODIFIED:20230410T151822Z
UID:10443-1680336000-1682874000@l8nx.com
SUMMARY:April: Student Affairs
DESCRIPTION:L8NX supports education by providing an innovative and personalized approach to connecting and networking with companies that provide training and internships. L8NX’s platform is designed to connect students and real-world teachers in a more effective and engaging learning experience. In addition\, L8NX emphasizes the development of communication skills\, preparing students for success in both academic and professional settings. By providing access to resources and tools\, L8NX is helping to bridge the gap and create new opportunities for education and personal growth. \n  \nLook ahead for the L8NX Scholarship opportunity!
URL:https://l8nx.com/event/april-student-affair-month/
END:VEVENT
BEGIN:VEVENT
DTSTART;VALUE=DATE:20230317
DTEND;VALUE=DATE:20230318
DTSTAMP:20260422T221840
CREATED:20230301T181536Z
LAST-MODIFIED:20230303T164849Z
UID:10441-1679011200-1679097599@l8nx.com
SUMMARY:Happy St. Patrick's Day
DESCRIPTION:
URL:https://l8nx.com/event/st-patricks-day-dinner/
END:VEVENT
BEGIN:VEVENT
DTSTART;TZID=UTC:20230301T080000
DTEND;TZID=UTC:20230331T170000
DTSTAMP:20260422T221840
CREATED:20230301T181505Z
LAST-MODIFIED:20230301T181505Z
UID:10439-1677657600-1680282000@l8nx.com
SUMMARY:March: March Madness Month
DESCRIPTION:
URL:https://l8nx.com/event/march-march-madness-month/
END:VEVENT
BEGIN:VEVENT
DTSTART;TZID=UTC:20230201T080000
DTEND;TZID=UTC:20230228T170000
DTSTAMP:20260422T221840
CREATED:20221227T195015Z
LAST-MODIFIED:20230105T202412Z
UID:9542-1675238400-1677603600@l8nx.com
SUMMARY:February: Lover's Affair Month
DESCRIPTION:Participating members to be announced for their specials (to be determined activities) \nPrice TBD
URL:https://l8nx.com/event/february-lovers-affair-month/
END:VEVENT
BEGIN:VEVENT
DTSTART;TZID=UTC:20230101T000000
DTEND;TZID=UTC:20230131T000000
DTSTAMP:20260422T221840
CREATED:20221227T194345Z
LAST-MODIFIED:20221227T194742Z
UID:9411-1672531200-1675123200@l8nx.com
SUMMARY:January: Textile Drive Month
DESCRIPTION:Members will accept donations and Members will distribute donations to the needy (Members to be hired for pick up and delivering the goods)
URL:https://l8nx.com/event/january-textile-drive-month/
END:VEVENT
END:VCALENDAR