BEGIN:VCALENDAR
VERSION:2.0
PRODID:-//L8NX - ECPv6.8.3//NONSGML v1.0//EN
CALSCALE:GREGORIAN
METHOD:PUBLISH
X-ORIGINAL-URL:https://l8nx.com
X-WR-CALDESC:Events for L8NX
REFRESH-INTERVAL;VALUE=DURATION:PT1H
X-Robots-Tag:noindex
X-PUBLISHED-TTL:PT1H
BEGIN:VTIMEZONE
TZID:UTC
BEGIN:STANDARD
TZOFFSETFROM:+0000
TZOFFSETTO:+0000
TZNAME:UTC
DTSTART:20250101T000000
END:STANDARD
END:VTIMEZONE
BEGIN:VEVENT
DTSTART;VALUE=DATE:20251001
DTEND;VALUE=DATE:20251101
DTSTAMP:20260422T132753
CREATED:20250811T225719Z
LAST-MODIFIED:20250811T225719Z
UID:18243-1759276800-1761955199@l8nx.com
SUMMARY:October is Healthy Me Month
DESCRIPTION:
URL:https://l8nx.com/event/october-is-healthy-me-month/
ATTACH;FMTTYPE=image/png:https://l8nx.com/wp-content/uploads/2025/08/Colorful-Modern-Healthy-Food-Blog-Instagram-Post-e1754952964570.png
END:VEVENT
BEGIN:VEVENT
DTSTART;TZID=UTC:20251025T180000
DTEND;TZID=UTC:20251025T210000
DTSTAMP:20260422T132753
CREATED:20250922T155704Z
LAST-MODIFIED:20250922T155756Z
UID:18582-1761415200-1761426000@l8nx.com
SUMMARY:L8NX at the 98th Mummers' Parade
DESCRIPTION:Come see L8NX at the 98th Mummers’ Parade! \n  \n  \nhttps://mainstreethagerstown.org/event/98th-alsatia-mummers-parade/ \n  \n98th Annual Alsatia Mummers’ Parade is the largest night-time parade of its kind on the East Coast\, which includes floats\, bands\, walking groups\, decorated vehicles\, Mummers (persons dressed in costume)\, and MORE!!! Prizes up to $2\,000 are awarded to eligible participants. Official parade tickets are only sold through The Maryland Theatre. Check out our Facebook and Instagram pages\, “AlsatiaMummersParade” and www.alsatiaclubinc.com for additional parade information\, submit a parade entry application\, or to become a sponsor of Hagerstown’s Favorite Tradition. \n\n\nDetails\n\nDate:\nOctober 25\nTime:\n\n6:00 pm – 9:00 pm\n\nEvent Categories:\nHolidays\, Ticketed Events\nWebsite:\nhttps://www.alsatiaclubinc.com/parade/\n\n\n\nOrganizer\n\n\nThe Alsatia Club and Downtown Hagerstown\n\nView Organizer Website\n\n\n\n\n\nVenue\n\n\nNorth and South Potomac Street\n\n\n245 North Potomac\nHagerstown\, MD 21740
URL:https://l8nx.com/event/l8nx-at-the-98th-mummers-parade/
ATTACH;FMTTYPE=image/png:https://l8nx.com/wp-content/uploads/2025/09/Mummers-e1758556609474.png
END:VEVENT
END:VCALENDAR