BEGIN:VCALENDAR
VERSION:2.0
PRODID:-//L8NX - ECPv6.8.3//NONSGML v1.0//EN
CALSCALE:GREGORIAN
METHOD:PUBLISH
X-WR-CALNAME:L8NX
X-ORIGINAL-URL:https://l8nx.com
X-WR-CALDESC:Events for L8NX
REFRESH-INTERVAL;VALUE=DURATION:PT1H
X-Robots-Tag:noindex
X-PUBLISHED-TTL:PT1H
BEGIN:VTIMEZONE
TZID:UTC
BEGIN:STANDARD
TZOFFSETFROM:+0000
TZOFFSETTO:+0000
TZNAME:UTC
DTSTART:20250101T000000
END:STANDARD
END:VTIMEZONE
BEGIN:VEVENT
DTSTART;VALUE=DATE:20250901
DTEND;VALUE=DATE:20251001
DTSTAMP:20260422T133350
CREATED:20250308T003235Z
LAST-MODIFIED:20250308T003235Z
UID:17726-1756684800-1759276799@l8nx.com
SUMMARY:September is Fall Festival Month
DESCRIPTION:
URL:https://l8nx.com/event/september-is-fall-festival-month/
ATTACH;FMTTYPE=image/png:https://l8nx.com/wp-content/uploads/2025/03/Fall-Festival-e1741393929638.png
END:VEVENT
END:VCALENDAR