BEGIN:VCALENDAR
VERSION:2.0
PRODID:-//L8NX - ECPv6.8.3//NONSGML v1.0//EN
CALSCALE:GREGORIAN
METHOD:PUBLISH
X-ORIGINAL-URL:https://l8nx.com
X-WR-CALDESC:Events for L8NX
REFRESH-INTERVAL;VALUE=DURATION:PT1H
X-Robots-Tag:noindex
X-PUBLISHED-TTL:PT1H
BEGIN:VTIMEZONE
TZID:UTC
BEGIN:STANDARD
TZOFFSETFROM:+0000
TZOFFSETTO:+0000
TZNAME:UTC
DTSTART:20250101T000000
END:STANDARD
TZID:America/New_York
BEGIN:DAYLIGHT
TZOFFSETFROM:-0500
TZOFFSETTO:-0400
TZNAME:EDT
DTSTART:20250309T070000
END:DAYLIGHT
BEGIN:STANDARD
TZOFFSETFROM:-0400
TZOFFSETTO:-0500
TZNAME:EST
DTSTART:20251102T060000
END:STANDARD
END:VTIMEZONE
BEGIN:VEVENT
DTSTART;VALUE=DATE:20250307
DTEND;VALUE=DATE:20250922
DTSTAMP:20260422T220908
CREATED:20250307T192206Z
LAST-MODIFIED:20250922T164349Z
UID:17686-1741305600-1758499199@l8nx.com
SUMMARY:L8NX Fall Festival
DESCRIPTION:🍂 Calling All Vendors! 🍂 L8NX Fall Festival – September 6th! \nGet ready for a fantastic autumn celebration! The L8NX Fall Festival is happening on September 6th\, and we’re currently accepting vendor applications! 🎉 \nThis is your chance to showcase your business\, connect with the community\, and be part of an exciting seasonal event. Stay tuned—more details coming soon! \nInterested in joining us? Apply now to secure your spot~ ~ info@l8nx.com🍁✨ \n🍁🎉 Now Featuring a $1\,000 Treasure Hunt! 🎉🍁 \nGet ready for the L8NX Fall Festival on September 6th—a day filled with community\, fun\, and now… an EPIC $1\,000 TREASURE HUNT! 💰🔎 \nThis is a huge opportunity for vendors—don’t miss your chance to be part of an event that’s bringing crowds\, excitement\, and big prizes! 🛍️🎶🍂 \n📅 Date: September 6th📍 Location: TBD💰 $1\,000 Treasure Hunt – Open to All Attendees! \nVendors\, spots are filling fast! Secure your space today and be part of this must-attend fall event! \n📩 Email us to reserve your booth now! \n#L8NXFallFestival #TreasureHunt #VendorOpportunity #CommunityFun
URL:https://l8nx.com/event/l8nx-fall-festival/
ATTACH;FMTTYPE=image/png:https://l8nx.com/wp-content/uploads/2025/03/Fall-Festival-TH-e1743472825522.png
END:VEVENT
BEGIN:VEVENT
DTSTART;VALUE=DATE:20250501
DTEND;VALUE=DATE:20250601
DTSTAMP:20260422T220908
CREATED:20250307T230022Z
LAST-MODIFIED:20250307T230022Z
UID:17704-1746057600-1748735999@l8nx.com
SUMMARY:May is Nature Lover's Month
DESCRIPTION:In May\, L8NX invites you to connect with nature and to support the Chesapeake Bay through two exciting initiatives! Join us for a Nature Walk to explore the beauty of the outdoors. You can also show your support for the Chesapeake Bay by purchasing a Bucket Hat from our limited-edition collection—proceeds will go directly to the Chesapeake Bay Foundation. Let’s step outside\, enjoy the environment\, and make a positive impact together!
URL:https://l8nx.com/event/may-is-nature-lovers-month/
ATTACH;FMTTYPE=image/png:https://l8nx.com/wp-content/uploads/2025/03/Nature-Lovers-e1741387140879.png
END:VEVENT
BEGIN:VEVENT
DTSTART;TZID=America/New_York:20250506T203000
DTEND;TZID=America/New_York:20250506T213000
DTSTAMP:20260422T220908
CREATED:20250428T190417Z
LAST-MODIFIED:20250506T195456Z
UID:17911-1746563400-1746567000@l8nx.com
SUMMARY:L8NX Community Online Monthly Meet Up
DESCRIPTION:🎉 BINGO Night at the L8NX Community Monthly Meet Up! 🎉 \n🎉 It’s that time again\, L8NX fam! 🎉\nJoin us TONIGHT for our L8NX Community Online Monthly Meet-Up — and this month\, we’re turning up the fun with BINGO! 🧩🎲 \n  \nDon’t miss out — see you there! 💻✨ \nJoin Zoom Meeting\nhttps://us02web.zoom.us/j/83015767139 \nMeeting ID: 830 1576 7139 \n— \nOne tap mobile\n+13017158592\,\,83015767139# US (Washington DC)\n+13092053325\,\,83015767139# US \n— \nDial by your location\n• +1 301 715 8592 US (Washington DC)\n• +1 309 205 3325 US\n• +1 312 626 6799 US (Chicago)\n• +1 646 931 3860 US\n• +1 929 205 6099 US (New York)\n• +1 305 224 1968 US\n• +1 360 209 5623 US\n• +1 386 347 5053 US\n• +1 507 473 4847 US\n• +1 564 217 2000 US\n• +1 669 444 9171 US\n• +1 669 900 6833 US (San Jose)\n• +1 689 278 1000 US\n• +1 719 359 4580 US\n• +1 253 205 0468 US\n• +1 253 215 8782 US (Tacoma)\n• +1 346 248 7799 US (Houston) \nMeeting ID: 830 1576 7139 \nFind your local number:https://us02web.zoom.us/u/kmkWbrQdw \n────────── \n  \n  \nGAME DETAILS \nMake a Bingo card with a 5×5 grid. Each square will contain a different phrase or word that relates to common occurrences or topics in business meetings. \n  \nROUND 1 Business Jargon & Buzzwords: \nThese are common terms used in meetings that could be found on your Bingo cards. They’re often used to express strategic ideas\, management concepts\, or company-specific language: \n\nSynergy\nLow-hanging fruit\nValue proposition\nTouch base\nAction items\nBest practices\nGame changer\nDeep dive\nOn the same page\nCircle back\nWin-win\nLeverage\nPivot\nStakeholders\nDisruptive innovation\nScalability\nThought leadership\nROI (Return on Investment)\nKPIs (Key Performance Indicators)\nStreamline\nHolistic approach\nAgile\nBandwidth\nBranding\nEcosystem\nBig picture\nValue-added\nDeliverables\nSilos\n360-degree view\n\n  \nROUND 2 Meeting Phrases: \nThese phrases are commonly used to keep the meeting moving\, clarify points\, or suggest actions. They often appear in almost every meeting: \n\nLet’s take this offline\nLet’s circle back to this\nAny objections?\nWe’ll follow up on that\nCan everyone hear me?\nLet’s schedule a follow-up\nWe’re running out of time\nLet’s table this for later\nLet’s not get bogged down in details\nThat’s a great point\nCan you clarify that?\nLet’s dive into this\nI’ll send out the meeting notes\nWho owns this action item?\nWe need to drill down on that\nLet’s get back to the agenda\nLet’s prioritize this\nWe need to align on this\nCan we revisit that in a moment?\nLet’s focus on the next steps\nI’ll loop back with you on that\nIs this a one-off\, or ongoing?\nCan you give me an update?\nLet’s park that for now\nLet’s get to the bottom line\nLet’s take a quick pause\nWhat’s the status on that?\nThis is a high priority\nCan we set up a separate meeting for this?\nLet’s reconnect after the meeting
URL:https://l8nx.com/event/l8nx-community-online-monthly-meet-up-3/
ATTACH;FMTTYPE=image/png:https://l8nx.com/wp-content/uploads/2025/04/5-BINGO-e1745866710703.png
END:VEVENT
END:VCALENDAR