BEGIN:VCALENDAR
VERSION:2.0
PRODID:-//L8NX - ECPv6.8.3//NONSGML v1.0//EN
CALSCALE:GREGORIAN
METHOD:PUBLISH
X-WR-CALNAME:L8NX
X-ORIGINAL-URL:https://l8nx.com
X-WR-CALDESC:Events for L8NX
REFRESH-INTERVAL;VALUE=DURATION:PT1H
X-Robots-Tag:noindex
X-PUBLISHED-TTL:PT1H
BEGIN:VTIMEZONE
TZID:UTC
BEGIN:STANDARD
TZOFFSETFROM:+0000
TZOFFSETTO:+0000
TZNAME:UTC
DTSTART:20250101T000000
END:STANDARD
END:VTIMEZONE
BEGIN:VEVENT
DTSTART;VALUE=DATE:20250307
DTEND;VALUE=DATE:20250922
DTSTAMP:20260422T220833
CREATED:20250307T192206Z
LAST-MODIFIED:20250922T164349Z
UID:17686-1741305600-1758499199@l8nx.com
SUMMARY:L8NX Fall Festival
DESCRIPTION:🍂 Calling All Vendors! 🍂 L8NX Fall Festival – September 6th! \nGet ready for a fantastic autumn celebration! The L8NX Fall Festival is happening on September 6th\, and we’re currently accepting vendor applications! 🎉 \nThis is your chance to showcase your business\, connect with the community\, and be part of an exciting seasonal event. Stay tuned—more details coming soon! \nInterested in joining us? Apply now to secure your spot~ ~ info@l8nx.com🍁✨ \n🍁🎉 Now Featuring a $1\,000 Treasure Hunt! 🎉🍁 \nGet ready for the L8NX Fall Festival on September 6th—a day filled with community\, fun\, and now… an EPIC $1\,000 TREASURE HUNT! 💰🔎 \nThis is a huge opportunity for vendors—don’t miss your chance to be part of an event that’s bringing crowds\, excitement\, and big prizes! 🛍️🎶🍂 \n📅 Date: September 6th📍 Location: TBD💰 $1\,000 Treasure Hunt – Open to All Attendees! \nVendors\, spots are filling fast! Secure your space today and be part of this must-attend fall event! \n📩 Email us to reserve your booth now! \n#L8NXFallFestival #TreasureHunt #VendorOpportunity #CommunityFun
URL:https://l8nx.com/event/l8nx-fall-festival/
ATTACH;FMTTYPE=image/png:https://l8nx.com/wp-content/uploads/2025/03/Fall-Festival-TH-e1743472825522.png
END:VEVENT
BEGIN:VEVENT
DTSTART;VALUE=DATE:20250401
DTEND;VALUE=DATE:20250501
DTSTAMP:20260422T220833
CREATED:20250307T220715Z
LAST-MODIFIED:20250307T220715Z
UID:17695-1743465600-1746057599@l8nx.com
SUMMARY:April is Student Affairs Month
DESCRIPTION:April is Student Affairs Month\, a time to empower students with the tools they need for success. This month features a $300 Scholarship to help students with their education\, a Resume Writing Workshop to fine-tune professional resumes\, and essential Time Management and Study Tips to boost productivity and academic performance. Don’t miss these opportunities to grow and excel!
URL:https://l8nx.com/event/april-is-student-affairs-month/
ATTACH;FMTTYPE=image/png:https://l8nx.com/wp-content/uploads/2025/03/Student-Affairs-e1741385102687.png
END:VEVENT
BEGIN:VEVENT
DTSTART;TZID=UTC:20250401T080000
DTEND;TZID=UTC:20250430T170000
DTSTAMP:20260422T220833
CREATED:20250216T225747Z
LAST-MODIFIED:20250220T225559Z
UID:17590-1743494400-1746032400@l8nx.com
SUMMARY:L8NX 3rd Annual Scholarship Opportunity
DESCRIPTION:🎓 L8NX 3rd Annual Scholarship Opportunity! 🎓 \nAre you a student with big dreams and ambitious goals? This April\, L8NX is giving you the chance to win $300 CASH to help you on your academic journey! \nHow to Enter:\n✨ Answer this question:“How can being part of the L8NX community help you achieve your academic and career goals?”✨ Submit your response as either: \n\nA written answer (250-500 words) OR\nA video recording (2-3 minutes)\n\nSubmit your entry by April 30th to info@l8nx.com\nWinner Announcement:\n🏆 The winner will be announced in early May! \nWhether you’re pursuing higher education\, a certification\, or career advancement\, we want to hear how L8NX can support your journey! \nDon’t miss out – start crafting your answer today! \n#L8NXCommunity #ScholarshipOpportunity #AprilScholarship #AcademicGoals #StudentSuccess #L8NX #Win100Cash #StudentSupport #L8NXScholarship
URL:https://l8nx.com/event/l8nx-3rd-annual-scholarship-opportunity/
ATTACH;FMTTYPE=image/png:https://l8nx.com/wp-content/uploads/2025/02/Scholarship-e1740092147304.png
END:VEVENT
BEGIN:VEVENT
DTSTART;VALUE=DATE:20250415
DTEND;VALUE=DATE:20250501
DTSTAMP:20260422T220833
CREATED:20250307T222310Z
LAST-MODIFIED:20250308T003519Z
UID:17700-1744675200-1746057599@l8nx.com
SUMMARY:Study Smarter\, Not Harder!
DESCRIPTION:Study Smarter\, Not Harder! \n\nhttp://l8nx.com/wp-content/uploads/2025/03/www.l8nx.com_.mp4\nThese five tips can help you be successful in your studies: \nSet Clear Goals (Use SMART goals)\nPrioritize (Focus on urgent & important tasks first)\nTake Breaks (Study for 25 minutes\, then take a 5-minute break)\nMake a Study Space (Choose a quiet space\, minimize distractions)\nAvoid Procrastination (Break tasks into small steps\, use the “5-minute rule”)
URL:https://l8nx.com/event/study-smarter-not-harder/
ATTACH;FMTTYPE=image/png:https://l8nx.com/wp-content/uploads/2025/03/Study-Smarter-1-e1741386912320.png
END:VEVENT
END:VCALENDAR