BEGIN:VCALENDAR
VERSION:2.0
PRODID:-//L8NX - ECPv6.8.3//NONSGML v1.0//EN
CALSCALE:GREGORIAN
METHOD:PUBLISH
X-WR-CALNAME:L8NX
X-ORIGINAL-URL:https://l8nx.com
X-WR-CALDESC:Events for L8NX
REFRESH-INTERVAL;VALUE=DURATION:PT1H
X-Robots-Tag:noindex
X-PUBLISHED-TTL:PT1H
BEGIN:VTIMEZONE
TZID:UTC
BEGIN:STANDARD
TZOFFSETFROM:+0000
TZOFFSETTO:+0000
TZNAME:UTC
DTSTART:20250101T000000
END:STANDARD
END:VTIMEZONE
BEGIN:VEVENT
DTSTART;VALUE=DATE:20250114
DTEND;VALUE=DATE:20250401
DTSTAMP:20260423T011412
CREATED:20250114T175433Z
LAST-MODIFIED:20250114T175858Z
UID:17432-1736812800-1743465599@l8nx.com
SUMMARY:We're Looking for a Spring Intern!
DESCRIPTION:L8NX Marketing Intern (Unpaid\, Part-Time)\nPosition Overview: \nL8NX is seeking an enthusiastic and creative Marketing Intern to join our team! This part-time\, unpaid internship is designed for journalism\, communications\, business\, or marketing majors looking to gain hands-on experience in social media marketing\, client interaction\, and light sales in a supportive and flexible environment. \nYou will have the opportunity to contribute to our marketing strategies\, build relationships with prospective clients\, and refine your skills in communication\, content creation\, and brand representation—all without pressure! \n  \nLocation: \nRemote with occasional in-person events. \n  \nHours: \n10–15 hours per week\, flexible schedule to accommodate your studies and commitments. \n  \nKey Responsibilities:\nSocial Media Marketing\n\nAssist in developing\, scheduling\, and posting engaging content across all L8NX social media platforms.\nCreate visually appealing graphics\, write compelling captions\, and research trends to boost engagement.\nMonitor and respond to comments and messages to foster community and connection.\n\nClient Interaction & Engagement\n\nConnect with prospective clients through online interactions\, social media engagement\, and email communication.\nAssist in planning and promoting events that encourage collaboration and participation within the L8NX community.\n\nLight Sales Support\n\nShare L8NX services and offerings with prospective clients in a friendly\, informative manner.\nProvide feedback and insights from client interactions to refine our marketing strategies.\n\n  \nWhat You’ll Gain: \n\nHands-on experience in marketing and client engagement.\nOpportunity to build your portfolio with real-world projects.\nMentorship and guidance from experienced professionals.\nFlexible work structure to support your personal and academic growth.\n\n  \nQualifications: \n\nCurrent student or recent graduate in journalism\, marketing\, communications\, or a related field.\nPassion for creativity\, storytelling\, and connecting with others.\nFamiliarity with social media platforms like Instagram\, Facebook\, and LinkedIn.\nStrong written and verbal communication skills.\nPositive attitude and a willingness to learn.\n\n  \nHow to Apply:\nSubmit your résumé\, a brief cover letter\, and links to any relevant work (e.g.\, social media accounts\, blogs\, or marketing projects) to info@l8nx.com with the subject line: L8NX Marketing Intern Application.\nWe look forward to helping you grow and thrive in your marketing journey!
URL:https://l8nx.com/event/were-looking-for-a-spring-intern/
ATTACH;FMTTYPE=image/png:https://l8nx.com/wp-content/uploads/2025/01/Intern-e1736876987664.png
END:VEVENT
BEGIN:VEVENT
DTSTART;VALUE=DATE:20250201
DTEND;VALUE=DATE:20250301
DTSTAMP:20260423T011412
CREATED:20241116T192728Z
LAST-MODIFIED:20241116T192728Z
UID:17218-1738368000-1740787199@l8nx.com
SUMMARY:February: Affairs of the Heart
DESCRIPTION:❤️ Stay tuned for a list of heartwarming events and activities that will make your February extra special. Whether you’re into romantic dinners\, sweetheart events\, or community gatherings\, we’ve got something for everyone! ❤️ \n 
URL:https://l8nx.com/event/february-affairs-of-the-heart-2/
ATTACH;FMTTYPE=image/png:https://l8nx.com/wp-content/uploads/2024/11/Hearts-e1731784171951.png
END:VEVENT
BEGIN:VEVENT
DTSTART;TZID=UTC:20250228T170000
DTEND;TZID=UTC:20250228T220000
DTSTAMP:20260423T011412
CREATED:20250122T193357Z
LAST-MODIFIED:20250201T225345Z
UID:17459-1740762000-1740780000@l8nx.com
SUMMARY:Silver Spring Around the World Bazaar
DESCRIPTION:🌍 Join Us at the Around the World Bazaar! 🌍 \n📅 Date: February 28th\n📍 Location: Silver Spring \nL8NX is thrilled to be part of the Around the World Bazaar in Silver Spring! We’ll have a table showcasing the vibrant community we’ve built\, and we’d love to share our space with YOU—our amazing members! \nThis is a fantastic opportunity to:\n✨ Promote your products or services\n✨ Connect with other small business owners\n✨ Celebrate the diverse talents within our network \nInterested in joining us? Let us know\, and we’ll save you a spot at our table. Together\, let’s make this an unforgettable event! \n💌 Message us for more details or to reserve your space. \nWe can’t wait to see you there! 🎉
URL:https://l8nx.com/event/silver-spring-around-the-world-bazaar/
LOCATION:Veteran’s Plaza\, 1 Veterans Plaza\, Silver Spring\, 20910-4675
ATTACH;FMTTYPE=image/png:https://l8nx.com/wp-content/uploads/2025/01/Around-the-World-Bazaar-e1738450403183.png
END:VEVENT
END:VCALENDAR