BEGIN:VCALENDAR
VERSION:2.0
PRODID:-//L8NX - ECPv6.8.3//NONSGML v1.0//EN
CALSCALE:GREGORIAN
METHOD:PUBLISH
X-ORIGINAL-URL:https://l8nx.com
X-WR-CALDESC:Events for L8NX
REFRESH-INTERVAL;VALUE=DURATION:PT1H
X-Robots-Tag:noindex
X-PUBLISHED-TTL:PT1H
BEGIN:VTIMEZONE
TZID:UTC
BEGIN:STANDARD
TZOFFSETFROM:+0000
TZOFFSETTO:+0000
TZNAME:UTC
DTSTART:20250101T000000
END:STANDARD
END:VTIMEZONE
BEGIN:VEVENT
DTSTART;VALUE=DATE:20250101
DTEND;VALUE=DATE:20250201
DTSTAMP:20260423T051850
CREATED:20240827T205716Z
LAST-MODIFIED:20240827T205716Z
UID:16859-1735689600-1738367999@l8nx.com
SUMMARY:January is Let Go to Grow! Month
DESCRIPTION:January is “Let Go to Grow!” Month! 🌿 Embrace the power of a growth mindset by decluttering and making space for new opportunities. Our annual Textile Drive is the perfect way to start—donate your gently used clothes and textiles\, and watch how letting go can lead to personal and community growth. 🌟 \nJoin us this month and let’s grow together! 🌱
URL:https://l8nx.com/event/january-is-let-go-to-grow-month/
ATTACH;FMTTYPE=image/png:https://l8nx.com/wp-content/uploads/2024/08/January-Growth-e1724792173418.png
END:VEVENT
BEGIN:VEVENT
DTSTART;VALUE=DATE:20250104
DTEND;VALUE=DATE:20250204
DTSTAMP:20260423T051850
CREATED:20240827T220203Z
LAST-MODIFIED:20240827T221059Z
UID:16862-1735948800-1738627199@l8nx.com
SUMMARY:3rd Annual L8NX Textile Drive
DESCRIPTION:🧣 3rd Annual L8NX Textile Drive 🧣 \nIt’s that time of year again! L8NX is hosting our 3rd Annual Textile Drive\, and we need your help to make it the best one yet. 🌟 Clear out your closets and donate your gently used clothing\, linens\, and other textiles. Every piece you give supports sustainability and helps those in need. \nDrop-off locations are coming soon—stay tuned for updates! Let’s come together to make a difference and start the year with a spirit of giving! 💚 \n#TextileDrive2024 #Sustainability #CommunityGiving #L8NXCares \n 
URL:https://l8nx.com/event/3rd-annual-l8nx-textile-drive/
ATTACH;FMTTYPE=image/png:https://l8nx.com/wp-content/uploads/2024/08/3rd-Textile-Drive-e1724796104447.png
END:VEVENT
BEGIN:VEVENT
DTSTART;VALUE=DATE:20250114
DTEND;VALUE=DATE:20250401
DTSTAMP:20260423T051850
CREATED:20250114T175433Z
LAST-MODIFIED:20250114T175858Z
UID:17432-1736812800-1743465599@l8nx.com
SUMMARY:We're Looking for a Spring Intern!
DESCRIPTION:L8NX Marketing Intern (Unpaid\, Part-Time)\nPosition Overview: \nL8NX is seeking an enthusiastic and creative Marketing Intern to join our team! This part-time\, unpaid internship is designed for journalism\, communications\, business\, or marketing majors looking to gain hands-on experience in social media marketing\, client interaction\, and light sales in a supportive and flexible environment. \nYou will have the opportunity to contribute to our marketing strategies\, build relationships with prospective clients\, and refine your skills in communication\, content creation\, and brand representation—all without pressure! \n  \nLocation: \nRemote with occasional in-person events. \n  \nHours: \n10–15 hours per week\, flexible schedule to accommodate your studies and commitments. \n  \nKey Responsibilities:\nSocial Media Marketing\n\nAssist in developing\, scheduling\, and posting engaging content across all L8NX social media platforms.\nCreate visually appealing graphics\, write compelling captions\, and research trends to boost engagement.\nMonitor and respond to comments and messages to foster community and connection.\n\nClient Interaction & Engagement\n\nConnect with prospective clients through online interactions\, social media engagement\, and email communication.\nAssist in planning and promoting events that encourage collaboration and participation within the L8NX community.\n\nLight Sales Support\n\nShare L8NX services and offerings with prospective clients in a friendly\, informative manner.\nProvide feedback and insights from client interactions to refine our marketing strategies.\n\n  \nWhat You’ll Gain: \n\nHands-on experience in marketing and client engagement.\nOpportunity to build your portfolio with real-world projects.\nMentorship and guidance from experienced professionals.\nFlexible work structure to support your personal and academic growth.\n\n  \nQualifications: \n\nCurrent student or recent graduate in journalism\, marketing\, communications\, or a related field.\nPassion for creativity\, storytelling\, and connecting with others.\nFamiliarity with social media platforms like Instagram\, Facebook\, and LinkedIn.\nStrong written and verbal communication skills.\nPositive attitude and a willingness to learn.\n\n  \nHow to Apply:\nSubmit your résumé\, a brief cover letter\, and links to any relevant work (e.g.\, social media accounts\, blogs\, or marketing projects) to info@l8nx.com with the subject line: L8NX Marketing Intern Application.\nWe look forward to helping you grow and thrive in your marketing journey!
URL:https://l8nx.com/event/were-looking-for-a-spring-intern/
ATTACH;FMTTYPE=image/png:https://l8nx.com/wp-content/uploads/2025/01/Intern-e1736876987664.png
END:VEVENT
END:VCALENDAR