BEGIN:VCALENDAR
VERSION:2.0
PRODID:-//L8NX - ECPv6.8.3//NONSGML v1.0//EN
CALSCALE:GREGORIAN
METHOD:PUBLISH
X-ORIGINAL-URL:https://l8nx.com
X-WR-CALDESC:Events for L8NX
REFRESH-INTERVAL;VALUE=DURATION:PT1H
X-Robots-Tag:noindex
X-PUBLISHED-TTL:PT1H
BEGIN:VTIMEZONE
TZID:UTC
BEGIN:STANDARD
TZOFFSETFROM:+0000
TZOFFSETTO:+0000
TZNAME:UTC
DTSTART:20240101T000000
END:STANDARD
END:VTIMEZONE
BEGIN:VEVENT
DTSTART;VALUE=DATE:20240414
DTEND;VALUE=DATE:20241210
DTSTAMP:20260423T071610
CREATED:20230303T165001Z
LAST-MODIFIED:20240419T191916Z
UID:10512-1713052800-1733788799@l8nx.com
SUMMARY:L8NX Treasure Hunt
DESCRIPTION:Join the 2024 L8NX Treasure Hunt and find a treasure worth over $1\,000!\nEight local businesses got together and hid a Treasure Chest- it’s your job to visit each business to see if you can find the Treasure.\nCheck back for clues and details. Tickets are on sale now! \n 
URL:https://l8nx.com/event/l8nx-treasure-hunt/
ATTACH;FMTTYPE=image/png:https://l8nx.com/wp-content/uploads/2023/03/Ask-About-Our-Treasure-Hunt.png
END:VEVENT
BEGIN:VEVENT
DTSTART;VALUE=DATE:20241201
DTEND;VALUE=DATE:20250101
DTSTAMP:20260423T071610
CREATED:20240824T221148Z
LAST-MODIFIED:20240824T221148Z
UID:16835-1733011200-1735689599@l8nx.com
SUMMARY:December: Appreciation Month
DESCRIPTION:As we embrace the holiday spirit and the end of the year\, we’re excited to introduce our heartwarming theme for December: Appreciation Month🙌🎄 \nIn a world that often moves at a rapid pace\, it’s essential to pause and express our gratitude to those who make a difference in our lives. Throughout this December\, we’re uniting to celebrate the unsung heroes in our community: our devoted teachers\, courageous first responders\, and dedicated health and wellness professionals.
URL:https://l8nx.com/event/december-appreciation-month-3/
ATTACH;FMTTYPE=image/png:https://l8nx.com/wp-content/uploads/2024/08/Appreciation-Month-e1724537491846.png
END:VEVENT
BEGIN:VEVENT
DTSTART;TZID=UTC:20241203T203000
DTEND;TZID=UTC:20241203T213000
DTSTAMP:20260423T071610
CREATED:20241116T181402Z
LAST-MODIFIED:20241204T005646Z
UID:17209-1733257800-1733261400@l8nx.com
SUMMARY:L8NX Community Monthly Meet Up
DESCRIPTION:Get ready for a night of fun\, strategy\, and surprises! At our Monthly Meet-Up on December 3rd\, we’re playing “Take It or Leave It”—our twist on the classic Deal or No Deal game. \n🎁 What to expect:\n💼 Choose from mystery cases.\n🤔 Will you stick with your choice or swap for a new one?\n🎉 Fun\, laughter\, and maybe a little suspense! \n📅 When: December 3rd\n📍 Where: L8NX Community Monthly Meet Up Zoom \nThis is the perfect way to kick off the holiday season with our amazing community. Bring your game face and holiday cheer—we can’t wait to see you there! 🎄 \n  \nJoin Zoom Meeting\nhttps://us02web.zoom.us/j/89575782135 \nMeeting ID: 895 7578 2135 \n— \nOne tap mobile\n+13017158592\,\,89575782135# US (Washington DC)\n+13052241968\,\,89575782135# US \n— \nDial by your location\n• +1 301 715 8592 US (Washington DC)\n• +1 305 224 1968 US\n• +1 309 205 3325 US\n• +1 312 626 6799 US (Chicago)\n• +1 646 931 3860 US\n• +1 929 205 6099 US (New York)\n• +1 669 444 9171 US\n• +1 669 900 6833 US (San Jose)\n• +1 689 278 1000 US\n• +1 719 359 4580 US\n• +1 253 205 0468 US\n• +1 253 215 8782 US (Tacoma)\n• +1 346 248 7799 US (Houston)\n• +1 360 209 5623 US\n• +1 386 347 5053 US\n• +1 507 473 4847 US\n• +1 564 217 2000 US \nMeeting ID: 895 7578 2135 \nFind your local number:https://us02web.zoom.us/u/kmJx09ZLu
URL:https://l8nx.com/event/l8nx-community-monthly-meet-up-5/
ATTACH;FMTTYPE=image/png:https://l8nx.com/wp-content/uploads/2024/11/12-Monthly-Meet-Up-e1731780770530.png
END:VEVENT
END:VCALENDAR