BEGIN:VCALENDAR
VERSION:2.0
PRODID:-//L8NX - ECPv6.8.3//NONSGML v1.0//EN
CALSCALE:GREGORIAN
METHOD:PUBLISH
X-WR-CALNAME:L8NX
X-ORIGINAL-URL:https://l8nx.com
X-WR-CALDESC:Events for L8NX
REFRESH-INTERVAL;VALUE=DURATION:PT1H
X-Robots-Tag:noindex
X-PUBLISHED-TTL:PT1H
BEGIN:VTIMEZONE
TZID:UTC
BEGIN:STANDARD
TZOFFSETFROM:+0000
TZOFFSETTO:+0000
TZNAME:UTC
DTSTART:20240101T000000
END:STANDARD
END:VTIMEZONE
BEGIN:VEVENT
DTSTART;VALUE=DATE:20240414
DTEND;VALUE=DATE:20241210
DTSTAMP:20260423T124545
CREATED:20230303T165001Z
LAST-MODIFIED:20240419T191916Z
UID:10512-1713052800-1733788799@l8nx.com
SUMMARY:L8NX Treasure Hunt
DESCRIPTION:Join the 2024 L8NX Treasure Hunt and find a treasure worth over $1\,000!\nEight local businesses got together and hid a Treasure Chest- it’s your job to visit each business to see if you can find the Treasure.\nCheck back for clues and details. Tickets are on sale now! \n 
URL:https://l8nx.com/event/l8nx-treasure-hunt/
ATTACH;FMTTYPE=image/png:https://l8nx.com/wp-content/uploads/2023/03/Ask-About-Our-Treasure-Hunt.png
END:VEVENT
BEGIN:VEVENT
DTSTART;VALUE=DATE:20240801
DTEND;VALUE=DATE:20240901
DTSTAMP:20260423T124545
CREATED:20240710T202136Z
LAST-MODIFIED:20240710T202136Z
UID:16591-1722470400-1725148799@l8nx.com
SUMMARY:Tropical Month
DESCRIPTION:🌴 Dive into Tropical Month with L8NX! 🌺 \nEmbrace the vibrant colors and laid-back vibes of the tropics all month long. Whether you’re dreaming of sandy beaches or exotic flavors\, let’s celebrate the spirit of summer wherever we are. Share your favorite tropical destinations or recipes to get in the spirit! \n#TropicalMonth #L8NX #SummerVibes
URL:https://l8nx.com/event/tropical-month/
ATTACH;FMTTYPE=image/png:https://l8nx.com/wp-content/uploads/2024/07/Tropical-Month-e1720642807252.png
END:VEVENT
BEGIN:VEVENT
DTSTART;VALUE=DATE:20240830
DTEND;VALUE=DATE:20240831
DTSTAMP:20260423T124545
CREATED:20240730T213501Z
LAST-MODIFIED:20240730T213501Z
UID:16645-1724976000-1725062399@l8nx.com
SUMMARY:Happy Mai Tai Day!
DESCRIPTION:National Mai Tai Day is celebrated on August 30th each year to honor the iconic tropical cocktail created by Trader Vic in 1944. The drink was originally made for friends at Trader Vic’s Oakland restaurant and includes 17-year-old Jamaican rum\, fresh lime\, orange curaçao\, rock candy syrup\, and French orgeat. One guest exclaimed\, “Mai Tai-Roa Aé\,” which translates to “out of this world—the best” in Tahitian. In 2009\, Oakland\, California officially named August 30th as Mai Tai Day. \nWe like to add a little pineapple juice for added sweetness\, making it a Royal Hawaiian! Enjoy! \n  \nIngredients: 1 1/2 oz White rum\, 1/2 oz Fresh lime juice\, 1/2 oz Orange curaçao\, 1/2 oz Orgeat syrup\, 3/4 oz Dark rum\, 3 oz pineapple juice \nPreparation: Shake all ingredients except the dark rum together in a mixer with ice. Strain into glass and float the dark rum onto the top. Garnish and serve with straw. \nServed: On the rocks; poured over ice. \nStandard garnish: Lime peel\, Pineapple spear \nDrinkware: Highball glass
URL:https://l8nx.com/event/happy-mai-tai-day/
ATTACH;FMTTYPE=image/png:https://l8nx.com/wp-content/uploads/2024/07/Mai-Tai-Day-e1722375136176.png
END:VEVENT
END:VCALENDAR