BEGIN:VCALENDAR
VERSION:2.0
PRODID:-//L8NX - ECPv6.8.3//NONSGML v1.0//EN
CALSCALE:GREGORIAN
METHOD:PUBLISH
X-ORIGINAL-URL:https://l8nx.com
X-WR-CALDESC:Events for L8NX
REFRESH-INTERVAL;VALUE=DURATION:PT1H
X-Robots-Tag:noindex
X-PUBLISHED-TTL:PT1H
BEGIN:VTIMEZONE
TZID:UTC
BEGIN:STANDARD
TZOFFSETFROM:+0000
TZOFFSETTO:+0000
TZNAME:UTC
DTSTART:20240101T000000
END:STANDARD
END:VTIMEZONE
BEGIN:VEVENT
DTSTART;VALUE=DATE:20240401
DTEND;VALUE=DATE:20240501
DTSTAMP:20260423T201921
CREATED:20230702T131449Z
LAST-MODIFIED:20240419T193711Z
UID:12104-1711929600-1714521599@l8nx.com
SUMMARY:Second Annual L8NX Scholarship Opportunity
DESCRIPTION:🌟 Second Annual Scholarship Opportunity! 🎓✨ \nHey scholars! 📚✉️ It’s that time of the year again – the Second Annual L8nx Scholarship is here! 🚀💸 \nTo Enter: \n\nVisit www.l8nx.com . Create a FREE student account (email info@l8nx.com if you need help) and check out the ‘About’ section.\nAnswer the question: “What does the ‘L8nx’ in L8nx.com stand for\, and how does it reflect our mission or purpose?”\nWrite or record your response (250 words or 1-2 minutes).\n\nTo Submit: Post your response on social media with the hashtag #L8nxScholarship by April 28th. \n$100 Prize: 🏆 The winner will be announced on April 30th! \nYour chance to win awaits – dive into the heart of L8nx and show us your insight! 🧠💡 Let’s make education dreams come true. 🌈🎓 #L8nxScholarship #EducationMatters #DreamBig 🚀📖
URL:https://l8nx.com/event/second-annual-l8nx-scholarship-opportunity/
ATTACH;FMTTYPE=image/png:https://l8nx.com/wp-content/uploads/2023/07/Scholarship-Program-Flyer-2024-e1703899355137.png
END:VEVENT
BEGIN:VEVENT
DTSTART;VALUE=DATE:20240414
DTEND;VALUE=DATE:20241210
DTSTAMP:20260423T201921
CREATED:20230303T165001Z
LAST-MODIFIED:20240419T191916Z
UID:10512-1713052800-1733788799@l8nx.com
SUMMARY:L8NX Treasure Hunt
DESCRIPTION:Join the 2024 L8NX Treasure Hunt and find a treasure worth over $1\,000!\nEight local businesses got together and hid a Treasure Chest- it’s your job to visit each business to see if you can find the Treasure.\nCheck back for clues and details. Tickets are on sale now! \n 
URL:https://l8nx.com/event/l8nx-treasure-hunt/
ATTACH;FMTTYPE=image/png:https://l8nx.com/wp-content/uploads/2023/03/Ask-About-Our-Treasure-Hunt.png
END:VEVENT
BEGIN:VEVENT
DTSTART;TZID=UTC:20240417T183000
DTEND;TZID=UTC:20240417T193000
DTSTAMP:20260423T201921
CREATED:20240404T183328Z
LAST-MODIFIED:20240415T164022Z
UID:16017-1713378600-1713382200@l8nx.com
SUMMARY:Free Small Business Marketing Workshop
DESCRIPTION:🎉 Calling all entrepreneurs! 🎉 \nGet ready to supercharge your business at our second L8NX Small Business Marketing Workshop on April 17th at 6:30 PM in Odenton\, MD. \nWhether you’re just starting out or looking to take your marketing efforts to the next level\, this event is tailor-made for you. And here’s an extra incentive: arrive early\, 6:00 PM\, to take advantage of exclusive networking opportunities! \nNetworking isn’t just about exchanging business cards; it’s about building relationships that can propel your business forward. By arriving early\, you’ll have the chance to connect with fellow entrepreneurs\, share insights\, and even find potential collaborators or clients. Plus\, you’ll get to soak in the buzzing atmosphere before the workshop kicks off. \nDon’t underestimate the power of connections. Some of the most valuable insights and opportunities come from informal conversations or a quick exchange of ideas. So\, mark your calendar\, set your alarm\, and make sure you’re there ahead of time to maximize your networking potential! \nRemember\, space is limited\, so secure your spot now by RSVPing. Let’s make this workshop not only a learning experience but also a platform for meaningful connections and collaborations. See you there! \n#MarketingWorkshop #SmallBusiness 💼🚀
URL:https://l8nx.com/event/free-small-business-marketing-workshop/
LOCATION:Odenton Public Library\, 1325 Annapolis Rd.\, Odenton\, Maryland\, 21113
ATTACH;FMTTYPE=image/png:https://l8nx.com/wp-content/uploads/2024/04/Free-Marketing-Workshop-e1712255563513.png
END:VEVENT
END:VCALENDAR