BEGIN:VCALENDAR
VERSION:2.0
PRODID:-//L8NX - ECPv6.8.3//NONSGML v1.0//EN
CALSCALE:GREGORIAN
METHOD:PUBLISH
X-WR-CALNAME:L8NX
X-ORIGINAL-URL:https://l8nx.com
X-WR-CALDESC:Events for L8NX
REFRESH-INTERVAL;VALUE=DURATION:PT1H
X-Robots-Tag:noindex
X-PUBLISHED-TTL:PT1H
BEGIN:VTIMEZONE
TZID:UTC
BEGIN:STANDARD
TZOFFSETFROM:+0000
TZOFFSETTO:+0000
TZNAME:UTC
DTSTART:20240101T000000
END:STANDARD
END:VTIMEZONE
BEGIN:VEVENT
DTSTART;VALUE=DATE:20240325
DTEND;VALUE=DATE:20240326
DTSTAMP:20260423T215533
CREATED:20240302T014848Z
LAST-MODIFIED:20240302T015047Z
UID:15767-1711324800-1711411199@l8nx.com
SUMMARY:Maryland Day
DESCRIPTION:🦀 Happy Maryland Day\, fellow Marylanders! 🎉🎈 Today\, we’re waving our flags high\, savoring Old Bay flavors\, and celebrating the unique charm of our beloved state. From the Chesapeake Bay to the mountains of Western Maryland\, here’s to the land of pride and joy! 🌻🏞️ #MarylandDay #HomeSweetHome #CharmCityCharm #MarylandPride 🦀✨
URL:https://l8nx.com/event/maryland-day/
ATTACH;FMTTYPE=image/png:https://l8nx.com/wp-content/uploads/2024/03/Maryland-Day-e1709344012827.png
END:VEVENT
END:VCALENDAR