BEGIN:VCALENDAR
VERSION:2.0
PRODID:-//L8NX - ECPv6.8.3//NONSGML v1.0//EN
CALSCALE:GREGORIAN
METHOD:PUBLISH
X-WR-CALNAME:L8NX
X-ORIGINAL-URL:https://l8nx.com
X-WR-CALDESC:Events for L8NX
REFRESH-INTERVAL;VALUE=DURATION:PT1H
X-Robots-Tag:noindex
X-PUBLISHED-TTL:PT1H
BEGIN:VTIMEZONE
TZID:UTC
BEGIN:STANDARD
TZOFFSETFROM:+0000
TZOFFSETTO:+0000
TZNAME:UTC
DTSTART:20240101T000000
END:STANDARD
END:VTIMEZONE
BEGIN:VEVENT
DTSTART;VALUE=DATE:20240317
DTEND;VALUE=DATE:20240318
DTSTAMP:20260423T215535
CREATED:20231231T224544Z
LAST-MODIFIED:20231231T224544Z
UID:15356-1710633600-1710719999@l8nx.com
SUMMARY:🍀 L8NX 'WEARING O' THE GREEN' CONTEST 🍀
DESCRIPTION:🍀 L8NX ‘WEARING O’ THE GREEN’ CONTEST 🍀 \nAre you ready to turn the town green this St. Paddy’s Day? ☘️ Show off your most fabulous green outfits and join the L8NX ‘Wearing O’ the Green’ contest! 🌈 \n\nDress up in your best green ensemble.\nStrike a pose\, and capture the magic in a photo.\nPost your picture on Instagram\, Facebook\, or Twitter.\nTag @L8NX and use the hashtag #L8NXLuckyMe\n\n🍀 Bragging rights as the most stylish St. Paddy’s reveler! \nLet’s turn social media into a sea of green and spread the St. Patrick’s Day cheer! May the luck of the Irish be with you! 💚
URL:https://l8nx.com/event/%f0%9f%8d%80-l8nx-wearing-o-the-green-contest-%f0%9f%8d%80/
ATTACH;FMTTYPE=image/png:https://l8nx.com/wp-content/uploads/2023/12/Green-Contest-e1704062675899.png
END:VEVENT
END:VCALENDAR