BEGIN:VCALENDAR
VERSION:2.0
PRODID:-//L8NX - ECPv6.8.3//NONSGML v1.0//EN
CALSCALE:GREGORIAN
METHOD:PUBLISH
X-WR-CALNAME:L8NX
X-ORIGINAL-URL:https://l8nx.com
X-WR-CALDESC:Events for L8NX
REFRESH-INTERVAL;VALUE=DURATION:PT1H
X-Robots-Tag:noindex
X-PUBLISHED-TTL:PT1H
BEGIN:VTIMEZONE
TZID:UTC
BEGIN:STANDARD
TZOFFSETFROM:+0000
TZOFFSETTO:+0000
TZNAME:UTC
DTSTART:20240101T000000
END:STANDARD
END:VTIMEZONE
BEGIN:VEVENT
DTSTART;VALUE=DATE:20240201
DTEND;VALUE=DATE:20240301
DTSTAMP:20260423T233457
CREATED:20231208T150042Z
LAST-MODIFIED:20231228T193221Z
UID:14682-1706745600-1709251199@l8nx.com
SUMMARY:February: Affairs of the Heart
DESCRIPTION:💖 Get ready to celebrate affairs of the heart this February! 💖 \nLove is in the air\, and we’re excited to announce that February is officially “Affairs of the Heart” month! ❤️ Stay tuned for a list of heartwarming events and activities that will make your February extra special. Whether you’re into romantic dinners\, self-care rituals\, or community gatherings\, we’ve got something for everyone. \nGet ready to embrace love in all its forms because this February is going to be filled with heartwarming moments. Keep an eye out for our upcoming events list – your guide to a month full of love and connection! 💕 #AffairsOfTheHeart #FebruaryLove #StayTuned 💕
URL:https://l8nx.com/event/february-affairs-of-the-heart/
ATTACH;FMTTYPE=image/png:https://l8nx.com/wp-content/uploads/2023/12/Affairs-of-the-Heart-e1702047578779.png
END:VEVENT
BEGIN:VEVENT
DTSTART;VALUE=DATE:20240219
DTEND;VALUE=DATE:20240220
DTSTAMP:20260423T233457
CREATED:20240202T035323Z
LAST-MODIFIED:20240202T035323Z
UID:15537-1708300800-1708387199@l8nx.com
SUMMARY:Happy Presidents' Day!
DESCRIPTION:🎉 Happy Presidents’ Day! ✨ Today\, we’re celebrating the incredible leaders who shaped our nation. Whether you’re enjoying a day off or channeling your inner President with some history trivia\, let’s make today as monumental as Mount Rushmore! 🏛️💙 Share your favorite presidential quote or tell us how you’re spending the day. Cheers to a day filled with patriotism\, fun\, and maybe a presidential pancake breakfast! 🥞🇺🇸 #PresidentsDay #LandOfTheFree #HistoryFun #PresidentialPancakes
URL:https://l8nx.com/event/happy-presidents-day/
ATTACH;FMTTYPE=image/png:https://l8nx.com/wp-content/uploads/2024/02/Presidents-Day-e1706845917116.png
END:VEVENT
END:VCALENDAR