BEGIN:VCALENDAR
VERSION:2.0
PRODID:-//L8NX - ECPv6.8.3//NONSGML v1.0//EN
CALSCALE:GREGORIAN
METHOD:PUBLISH
X-ORIGINAL-URL:https://l8nx.com
X-WR-CALDESC:Events for L8NX
REFRESH-INTERVAL;VALUE=DURATION:PT1H
X-Robots-Tag:noindex
X-PUBLISHED-TTL:PT1H
BEGIN:VTIMEZONE
TZID:UTC
BEGIN:STANDARD
TZOFFSETFROM:+0000
TZOFFSETTO:+0000
TZNAME:UTC
DTSTART:20240101T000000
END:STANDARD
END:VTIMEZONE
BEGIN:VEVENT
DTSTART;VALUE=DATE:20240101
DTEND;VALUE=DATE:20240201
DTSTAMP:20260424T040412
CREATED:20231108T014115Z
LAST-MODIFIED:20231208T150303Z
UID:14127-1704067200-1706745599@l8nx.com
SUMMARY:January: L8NX Second Annual Textile Drive
DESCRIPTION:🌟 Join us in making January a month of warmth and compassion! 🧣❤️ \nAt L8NX LLC\, we’re thrilled to kick off “Textile Drive Month” this January. It’s the perfect time to spread love and warmth by helping those in need within our community. 🤗 \n  \n🧤 Why should you participate? \nShare the Warmth: As temperatures drop\, many individuals are struggling to stay warm. Your donations of gently used or new textiles can make a significant difference in their lives. \nEco-Friendly: By recycling and reusing textiles\, you’re contributing to a more sustainable future. Let’s reduce textile waste together! \nCommunity Bonding: Joining our Textile Drive is a fantastic way to connect with your fellow community members and feel the joy of giving. \n  \n🌈 How can you help? \nDonate: Gather your spare blankets\, coats\, sweaters\, scarves\, and any textiles you no longer need. These items can bring warmth to someone else’s life. \nSpread the Word: Share this post\, invite your friends and family to join the cause\, and encourage others to donate. Together\, we can make a greater impact. \nDrop-Off Locations: Keep your eyes out for convenient drop-off locations so you can easily donate your textiles- Details coming soon! \n  \nLet’s start the year with a spirit of giving and warmth. Together\, we can make January a month to remember! 🌬️🧥💕 \n#TextileDriveMonth #L8NXLLC #SpreadWarmth #Community #DonateTextiles
URL:https://l8nx.com/event/january-l8nx-second-annual-textile-drive/
ATTACH;FMTTYPE=image/png:https://l8nx.com/wp-content/uploads/2023/11/Second-Annual-Textile-Drive-e1699407666747.png
END:VEVENT
BEGIN:VEVENT
DTSTART;TZID=UTC:20240101T100000
DTEND;TZID=UTC:20240101T120000
DTSTAMP:20260424T040412
CREATED:20231228T002307Z
LAST-MODIFIED:20231228T003251Z
UID:15261-1704103200-1704110400@l8nx.com
SUMMARY:STRIVE FOR FIVE 5K Fun Run at Fairland Park
DESCRIPTION:🏃‍♀️🏃‍♂️ Join L8NX for the STRIVE FOR FIVE 5K Fun Run at Fairland Park on Jan 1st! 🎉 \nNew Year\, New Goals! Kick off 2024 on the right foot with a refreshing 5K walk or fun run surrounded by the beauty of Fairland Park. 🌲 Let’s stride into the new year together! \n📅 Date: January 1st \n🕙 Time: 10:00 AM \n📍 Location: Fairland Park\, Greencastle Trail (Park by the Greencastle entrance\, near picnic shelters A-D) \nWhy Strive for Five? \n\n🌈 Set positive intentions for the year ahead\n🏃‍♀️ Embrace a healthy start to 2024\n🤝 Connect with the L8NX community\n\nHow to Join: \n\nLace up those sneakers!\nMeet us at Fairland Park at 10 AM on Jan 1st.\nStride\, jog\, or stroll your way to a fantastic start to the new year!\n\nDon’t miss out on the chance to embrace a healthier\, happier you in 2024. Tag your walking or running buddies and let’s make this ‘Strive for Five’ 5K unforgettable! 🌟
URL:https://l8nx.com/event/strive-for-five-5k-fun-run-at-fairland-park/
LOCATION:Fairland Recreational Park\, 3928 Greencastle Blvd.\, Burtonsville\, 20866\, United States
ATTACH;FMTTYPE=image/png:https://l8nx.com/wp-content/uploads/2023/12/Fun-Run-5K-e1703722743599.png
END:VEVENT
END:VCALENDAR