BEGIN:VCALENDAR
VERSION:2.0
PRODID:-//L8NX - ECPv6.8.3//NONSGML v1.0//EN
CALSCALE:GREGORIAN
METHOD:PUBLISH
X-ORIGINAL-URL:https://l8nx.com
X-WR-CALDESC:Events for L8NX
REFRESH-INTERVAL;VALUE=DURATION:PT1H
X-Robots-Tag:noindex
X-PUBLISHED-TTL:PT1H
BEGIN:VTIMEZONE
TZID:America/New_York
BEGIN:DAYLIGHT
TZOFFSETFROM:-0500
TZOFFSETTO:-0400
TZNAME:EDT
DTSTART:20230312T070000
END:DAYLIGHT
BEGIN:STANDARD
TZOFFSETFROM:-0400
TZOFFSETTO:-0500
TZNAME:EST
DTSTART:20231105T060000
END:STANDARD
END:VTIMEZONE
BEGIN:VEVENT
DTSTART;TZID=America/New_York:20231028T220000
DTEND;TZID=America/New_York:20231029T003000
DTSTAMP:20260424T072312
CREATED:20230713T005544Z
LAST-MODIFIED:20231017T195707Z
UID:12183-1698530400-1698539400@l8nx.com
SUMMARY:96th Alsatia Mummers Parade
DESCRIPTION:2023\, The 96th Annual Mummers’ Day Parade\nPhone 301-739-2044\nSaturday\, October 28th\, 2023\nParade Time: 6:00 PM – RAIN\, SNOW or SHINE \nSpectators can enjoy the Mummers’ Parade almost anywhere along side the parade route. If you would like to purchase tickets for arranged seating\, please visit the Maryland Theatre Box Office here. \nFor more information or if you have questions about the Mummers’ Parade\, please contact the Alsatia Club at 301-739-2044. \nParade Day Information
URL:https://l8nx.com/event/96th-alsatia-mummers-parade/
ATTACH;FMTTYPE=image/png:https://l8nx.com/wp-content/uploads/2023/07/L8NX-Parade-Float-e1697572305352.png
END:VEVENT
END:VCALENDAR