BEGIN:VCALENDAR
VERSION:2.0
PRODID:-//L8NX - ECPv6.8.3//NONSGML v1.0//EN
CALSCALE:GREGORIAN
METHOD:PUBLISH
X-WR-CALNAME:L8NX
X-ORIGINAL-URL:https://l8nx.com
X-WR-CALDESC:Events for L8NX
REFRESH-INTERVAL;VALUE=DURATION:PT1H
X-Robots-Tag:noindex
X-PUBLISHED-TTL:PT1H
BEGIN:VTIMEZONE
TZID:America/New_York
BEGIN:DAYLIGHT
TZOFFSETFROM:-0500
TZOFFSETTO:-0400
TZNAME:EDT
DTSTART:20230312T070000
END:DAYLIGHT
BEGIN:STANDARD
TZOFFSETFROM:-0400
TZOFFSETTO:-0500
TZNAME:EST
DTSTART:20231105T060000
END:STANDARD
END:VTIMEZONE
BEGIN:VEVENT
DTSTART;TZID=America/New_York:20231021T120000
DTEND;TZID=America/New_York:20231021T160000
DTSTAMP:20260424T072313
CREATED:20231017T190435Z
LAST-MODIFIED:20231017T195930Z
UID:13586-1697889600-1697904000@l8nx.com
SUMMARY:L8NX Member Table at the Hagerstown Harvest Hoedown
DESCRIPTION:
URL:https://l8nx.com/event/hagerstown-harvest-hoedown/
LOCATION:Fairgrounds Park\, 351 N Cleveland Ave\, Hagerstown\, 21740\, United States
ATTACH;FMTTYPE=image/png:https://l8nx.com/wp-content/uploads/2023/10/L8NX-at-the-HHH-e1697569460614.png
END:VEVENT
END:VCALENDAR