BEGIN:VCALENDAR
VERSION:2.0
PRODID:-//L8NX - ECPv6.8.3//NONSGML v1.0//EN
CALSCALE:GREGORIAN
METHOD:PUBLISH
X-WR-CALNAME:L8NX
X-ORIGINAL-URL:https://l8nx.com
X-WR-CALDESC:Events for L8NX
REFRESH-INTERVAL;VALUE=DURATION:PT1H
X-Robots-Tag:noindex
X-PUBLISHED-TTL:PT1H
BEGIN:VTIMEZONE
TZID:UTC
BEGIN:STANDARD
TZOFFSETFROM:+0000
TZOFFSETTO:+0000
TZNAME:UTC
DTSTART:20230101T000000
END:STANDARD
END:VTIMEZONE
BEGIN:VEVENT
DTSTART;TZID=UTC:20230702T080000
DTEND;TZID=UTC:20230731T170000
DTSTAMP:20260424T114703
CREATED:20230702T174411Z
LAST-MODIFIED:20230902T200326Z
UID:12115-1688284800-1690822800@l8nx.com
SUMMARY:July: Friendship Month
DESCRIPTION:July: Friendship Month
URL:https://l8nx.com/event/july-friendship-month/
END:VEVENT
BEGIN:VEVENT
DTSTART;TZID=UTC:20230704T080000
DTEND;TZID=UTC:20230704T170000
DTSTAMP:20260424T114703
CREATED:20230701T231605Z
LAST-MODIFIED:20230701T231605Z
UID:12097-1688457600-1688490000@l8nx.com
SUMMARY:Happy Fourth of July!
DESCRIPTION:On the Fourth of July\, L8NX joins in the celebration of independence\, unity\, and the spirit of patriotism. As we commemorate this historic day\, let us also reflect on the principles that define our society: freedom\, equality\, and diversity. We honor the courage and vision of our founding fathers who laid the groundwork for a nation built on the values of liberty and justice for all. It is a time to come together as a community\, to cherish the rights we enjoy\, and to appreciate the vibrant tapestry of cultures and backgrounds that make our nation so unique. Whether it’s enjoying fireworks with loved ones\, engaging in community events\, or simply taking a moment to express gratitude for the opportunities we have\, let us celebrate the Fourth of July with a spirit of unity\, gratitude\, and hope for a brighter future.
URL:https://l8nx.com/event/happy-fourth-of-july/
END:VEVENT
END:VCALENDAR