BEGIN:VCALENDAR
VERSION:2.0
PRODID:-//L8NX - ECPv6.8.3//NONSGML v1.0//EN
CALSCALE:GREGORIAN
METHOD:PUBLISH
X-ORIGINAL-URL:https://l8nx.com
X-WR-CALDESC:Events for L8NX
REFRESH-INTERVAL;VALUE=DURATION:PT1H
X-Robots-Tag:noindex
X-PUBLISHED-TTL:PT1H
BEGIN:VTIMEZONE
TZID:UTC
BEGIN:STANDARD
TZOFFSETFROM:+0000
TZOFFSETTO:+0000
TZNAME:UTC
DTSTART:20230101T000000
END:STANDARD
END:VTIMEZONE
BEGIN:VEVENT
DTSTART;TZID=UTC:20230628T190000
DTEND;TZID=UTC:20230628T200000
DTSTAMP:20260424T114654
CREATED:20230606T150103Z
LAST-MODIFIED:20230612T141615Z
UID:11942-1687978800-1687982400@l8nx.com
SUMMARY:FREE WORKSHOP Marketing Essentials for Small Business Owners
DESCRIPTION:FREE WORKSHOP Marketing Essentials for Small Business Owners \nCourse Description: \nThis one-hour in-person class is designed to provide small business owners with a condensed overview of essential marketing concepts. Participants will gain a foundational understanding of key marketing principles and strategies to effectively promote their products or services. The class will cover important topics such as market research\, target audience identification\, branding\, digital marketing\, and customer engagement. \nRead the class syllabus here \nA variety of free snacks will be provided\, ensuring that nobody will be distracted by hunger and allowing everyone to fully focus on the valuable content being presented. \nThere are only 19 seats available so REGISTER TODAY! \nMarketing Class \n  \n  \n  \n  \n  \n 
URL:https://l8nx.com/event/free-workshop-marketing-essentials-for-small-business-owners/
LOCATION:Odenton Public Library\, 1325 Annapolis Rd.\, Odenton\, Maryland\, 21113
ATTACH;FMTTYPE=image/png:https://l8nx.com/wp-content/uploads/2023/06/Digital-Marketing-Agency-Flyer-e1686063016417.png
ORGANIZER;CN="L8NX":MAILTO:info@l8xn.com
END:VEVENT
END:VCALENDAR